Workbook

Sheet （参考）要望
A1: 森林整備業務競争入札参加資格審査申請に係る要望
C3: 県南農林事務所 | F3: 計画課
A4: № | B4: 様式等 | C4: 案件 | D4: 課題 | E4: 改善案 | F4: 計画課意見 | G4: 検討案 | H4: 改善案を採用する場合
A5: 1 | B5: 全て | C5: 提出部数の見直し | D5: 正、副１部づつ提出させることとしているが、正、副ともにマーカーやメモ入れをするため手間がかかる。 | E5: 提出部数は１部とし、各農林事務所の控えは写し又はデータ保存とする。 | F5: 写しを取る手間があるため、事務所によっては反対される可能性あり。 | G5: 業者は一部作成後、業者で写しを取り２部提出する。 事務所の手間は少なく、原本を必要とするものは２部提出とするためややこしい また、写しを事務所でとる手間はないが、マーカーやメモ入れの手間は変わらずかかる。 | H5: 要綱や告示で規定されておらず、手引き上「１部」とすることで対応可。
A6: 2 | B6: 全て | C6: 申請様式のデータのExcel化 | D6: Wordであるため入力欄がわかりにくく、入力もれ・誤入力・体裁のくずれ等が多くみられる。 また、様式４号と様式５号について転記ミスが散見される。 | E6: Excel様式とし、関数、入力規則・プルダウン・リンク等により入力作業の省力化を図る。 | F6: 様式３，４，５号についてはExcelとすることを検討。特段デメリットが無いと思われる。 （電子不可の業者は手書き） | G6: Excel化を検討。入力フォームに入れるだけで自動で様式が完成するものがあれば快適。 その場合はPDFとExcelの様式をHP掲載予定。（業者によっては紙ベースも必要があるため） | H6: 作成まで多少の時間がかかる。形式を変えるだけのため、要綱の改正は不要
A7: 3 | B7: 様式第１号「森林整備業務競争入札参加資格審査申請書」 | C7: 事務担当者欄の追加 | D7: 申請内容に疑義があり担当者に電話照会する場合、担当部署及び担当者名が不明で取次に時間がかかる。 | E7: 事務担当者の氏名及び連絡先を様式に追加する。 | F7: 業務効率化は図られる。 | G7: 様式１号等で担当者名を記載する欄を作成する。 ただし、その一か所のために要綱改正は難しいため、その他要望があり次第とする。 それまでは、手引き等で、どこかに記載するよう案内予定。 | H7: 様式を変える必要があるため、要綱改正が必要。
A8: 4 | B8: 様式第４号及び第５号「森林整備業務実績調書（令和〇年度分）」 | C8: 実績期間の見直し | D8: 当該資格の有効期間は２年だが、３年分掲載することとなっており、３年前の実績は前回の申請と重複する（継続申請の場合）。 | E8: 実績として掲載できる期間を２年分とする。 | F8: ３年前に提出した実績とは異なる可能性がある。例えば３年前の申請書提出時点で完了していない契約がある場合等。 | G8: 新規か更新かで提出してもらう実績を変えるのは難しい。 折衷案として更新の場合の３年前の実績は様式記載のみとし、書類は不要とする（手引き記載のみでいいか） | H8: 様式を変える必要があるため、要綱改正が必要。
A9: 5 | B9: 様式第５号「森林整備業務実績調書（令和〇年度分）」 | C9: 数量及び契約金額 | D9: 実績全てを記載するわけではないため業者の事業規模、選定要件等の比較材料にならず、公平性を欠く（意味を成していない）。 | E9: 業者の事務負担の軽減と県側の審査事務の省力化のため、希望する業務の種類一つにつき、記載できる実績を一つとする。 また、数量及び契約金額の記載欄を削除する。 | F9: 名簿上、業者の実績は種類以外記載されていない。ただし、数量や契約金額は事務所ごとにまとめている。（事務所でどう活かしているかは不明） メリットとしては、業務効率化。県や事業者で負担軽減。デメリットは業者の実力把握が難しい点。 また、契約金額によって審査上不可とすることはないが、小さい金額の契約は把握しておきたいため、数量及び金額の記載欄は削除しない。 反対に、来年度以降、とりまとめた業者ごとの実績を各事務所へ展開することを検討。（平成２９年までは部外秘として共有していたよう） | G9: 希望する業務につき１実績の計上で可とする。（ただし事務所に不都合あるかを確認） なければ手引きでその旨記載 | H9: 検討

Sheet 参考
B3: 施設管理課の庁舎等維持管理業務入札参加資格
B4: Excelが基本
B5: 受託実績は希望する業務ごとに一件のみでよい
B6: 資格者は全員
B33: 入札用度課の物品購入競争入札参加資格
B35: 直前１年度分での売り上げ実績記入
B38: 入札監理課の工事請負契約入札
B40: Excel化
B41: 直前２年又は３年の‘‘主な’’完成工事について記載すること。
U45: ｖ

Sheet はじめに
B4: ① | C4: 赤色 | D4: シートの | E4: 水色 | F4: セルに入力願います。
B5: ② | C5: 「委任状」（様式第１号（別紙）） | G5: 及び | H5: 「業務経歴書」（様式第３号（別紙２）） | M5: については
C6: 該当する業者の提出となります。
B7: ③ | C7: 様式４号については自動入力のため入力不要ですが、提出は必要となりますのでご注意ください。

Sheet 表紙
A24: １ 森林整備業務競争入札参加資格審査申請書・・・・・・・様式第１号
A26: ２ 委任状・・・・・・・・・・・・・・・・・・・・・・・様式第１号（別紙）
A28: ３ 誓約書・・・・・・・・・・・・・・・・・・・・・・・様式第２号
A30: ４ 専門技術者及び労働者に係る資格関係調書・・・・・・・様式第３号
A32: ５ 業務経歴書・・・・・・・・・・・・・・・・・・・・・様式第３号（別紙２）
A34: ６ 森林整備業務実績調書（年度別集計）・・・・・・・・・様式第４号
A36: ７ 森林整備業務実績調書 (各年度分)・・・・・・・・・・ 様式第５号
A38: ８ 添付書類チェック表

Sheet 様式１号（１）
A1: 様式第１号
A3: 森林整備業務競争入札参加資格審査申請書
A6: 福 島 県 知 事
D8: （ふりがな）
A9: （申請者）住所又は所在地 | D9: （申請者）住所又は所在地
D10: （ふりがな）
D11: 商号又は名称
D12: （ふりがな）
D13: 代表者職・氏名
A15: - | B15: 年度から | C15: 9 | D15: 年度における森林整備業務に係る競争入札に参加したいの
A16: で、必要書類を添えて申請します。
A17: 記
A18: １ 申請区分 | D18: 新規 継続 | F18: （登録番号： | J18: )
A20: ２ 希望する業務の種類 | D20: 造林業務 保育業務 間伐業務 主伐業務
D21: その他森林整備業務
A23: ３ 営業内容 | D23: 素材生産業 造林業 製材業 木材流通業 建設業 造園業
E24: その他（ | G24: ）
A26: ４ 営業組織 | D26: 個人事業主 株式会社 特例有限会社 森林組合 協同組合
D27: その他法人（ | G27: ）
A28: 郵便番号
A29: 電話番号
A30: ファクシミリ番号
A31: 電子メールアドレス
A32: 設立年月日 | H32: 年 | J32: 月 | L32: 日 設立
A33: 営業年数 | F33: か年（うち森林整備業務に係る年数 | K33: か年）
A34: 資本金(出資金) | E34: 千円
A37: ５ 誓約書 （様式第２号のとおり）
A39: ６ 登記事項証明書 （別紙のとおり）
A40: （個人にあっては、身分証明書及び登記されていないことの証明書）

Sheet 様式１号（２）
A2: ７ 納税証明書 （別紙のとおり）
A4: ８ 決算書（写し） （別紙のとおり）
A5: （個人にあっては、青色申告書（写し））
A7: ９ 専門技術者及び労働者
A8: 専門技術者 | D8: =COUNTA('様式３号 '!B7:B11) -> 0 | E8: 名、労働者 | G8: =COUNTA('様式３号 '!B25:B29) -> 0 | H8: 名 （様式第３号のとおり）
A9: 有資格者及び社員(職員)であることを証明する書類 （別紙のとおり）
A10: 建設業許可通知書(造園工事業)又は建設業許可証明書(造園工事業)の写し
A11: （様式第３号（別紙１）１の※印に該当する者のみ） （別紙のとおり）
A13: １０ 森林整備業務実績調書 （様式第４号のとおり）

Sheet 様式１号（別紙）
A1: 様式第１号（別紙）
A3: ※（本店から下記事項を委任された支店、支社、営業所等が申請する場合に提出）
A5: 委 任 状
A8: 福 島 県 知 事
D10: （委任者） | F10: 所在地
E11: 商号又は名称
E12: 代表者職・氏名
A14: 私は（ | B14: 氏名： | F14: ）を代理人と定め、下記権限を委任します。
A15: 記
A16: １ 委任事項
A17: （１） 森林整備業務競争入札参加資格審査申請に関すること。
A18: （２） 入札書及び見積書の提出に関すること。
A19: （３） 契約に関すること。
A20: （４） 委託料の請求及び受領に関すること。
A21: （５） 復代理人の選任に関すること
A23: ２ 委任期間
A24: 自 | C24: 年 | E24: 月 | G24: 日
A25: 至 | C25: 年 | E25: 月 | G25: 日
A27: ３ 代理人の役職名、住所等
A28: 支店等名称
A29: 所在地
A30: 代理人役職名
A38: 注 復代理人は、代理人に特別の事情があり、上記権限を行使できない場合に限り選任
A39: することができる。

Sheet 様式２号 
A1: 様式第２号（別紙）
A7: 福 島 県 知 事
D10: （誓約者）住所又は所在地
D11: 商号又は名称
D12: 代表者職・氏名
A14: 誓 約 書
B16: 私は、森林整備業務競争入札参加資格審査申請をするに当たり、一切の虚偽の申請が
B17: ないことを誓約します。
B18: また、入札参加資格取得後に申請内容に変更が生じた場合は、所定の手続を行うこと
B19: も誓約します。
B20: なお、これに反したときには、入札参加資格を喪失しても異議はありません。

Sheet 様式３号 
A1: 様式第３号
A3: 専門技術者及び労働者に係る資格関係調書
A5: １ 専門技術者・・・２名以上
B6: 氏名 | C6: 資格及び登録(認定) | E6: 番号 | F6: 取得年度 | G6: 管理業務 実務経験年数 | I6: 備 考
A12: 注1 | B12: 専門技術者とは、県告示第５５１号第１の第６号に掲げる者をいう。
B13: （様式第３号（別紙１）を参照）
A14: 2 | B14: 複数の資格を有している者は、いずれかひとつを記載すること。
A15: 3 | B15: 各種資格の登録証等(写)を添付すること。
A16: 4 | B16: 労働者のうち、専門技術者の資格を有する者は、これを兼任できる。
B17: なお、備考欄にその旨記載すること。
A18: 5 | B18: 管理業務実務経験年数は、公的機関から受託した森林整備業務における指導監督の経験年数 を記入すること。
A20: 6 | B20: 様式第３号（別紙１）の１の実務経験者は、「業務経歴書」（様式第３号（別紙２））を添 付すること。
A22: ２ 労働者・・・５名以上
B24: 氏名 | C24: 資格及び登録(認定) | E24: 番号 | F24: 取得年度 | G24: 管理業務 実務経験年数 | I24: 備 考
A30: 注１ | B30: 労働者とは、県告示第５５１号第１の第７号に掲げる者をいう。
B31: （様式第３号（別紙１）を参照）
A32: 2 | B32: 複数の資格を有している者は、いずれかひとつを記載すること。
A33: 3 | B33: 各種資格の登録証等(写)を添付すること。
A34: 4 | B34: 専門技術者のうち、労働者の資格を有する者は、これを兼任できる。
B35: なお、備考欄にその旨記載すること。
A36: 5 | B36: 現場業務実務経験年数は、森林整備業務における現場作業の経験年数を記入すること。
A37: 6 | B37: 様式第３号（別紙１）の２の実務経験者は、「業務経歴書」（様式第３号（別紙２））を添 付すること。
A38: 7 | B38: 備考欄に「常用・臨時」の別を記入すること。

Sheet 様式第３号（別紙１）① 
B1: 様式第３号（別紙１）
B3: １ 専門技術者
B4: 区 分 | C4: 内 容
B6: 技術士 | C6: 技術士法(昭和５８年法律第２５号)第２条第１項の技術士であって、森 林部門に係る登録を受けた者
B9: 林業普及指導員 林業専門技術員 林業改良指導員 | C9: 森林法(昭和２６年法律第２４９号)第１８７条第３項の林業普及指導員資格試験に合格した者又は森林法の一部を改正する法律（平成１６年法律 第２０号）附則第３条第１項の林業専門技術員資格試験に合格した者若しくは同条第２項の林業改良指導員資格試験に合格した者
B14: 林業技士 | C14: 社団法人日本森林技術協会の登録を受け資格が有効である者
B16: 青年林業士 | C16: 林業後継者育成対策等事業実施要領（昭和５８年４月４日付け５８林野普第７８号）に規定する青年林業士として都道府県知事の認定を受けた者 （指導林家等実施要領（平成１２年４月１日付け林野普第５３号林野庁長 官通知）に規定する青年林業士として都道府県知事の認定を受けた者）
B21: フォレストワーカー （林業作業士） フォレストリーダー （現場管理責任者） フォレストマネージャー （統括現場管理責任者） | C21: 「緑の雇用」現場技能者育成対策事業研修修了者名簿に登録され資格が有 効である者（上記に掲げる者のほか、基幹林業労働者研修を修了し、公益 社団法人福島県森林・林業・緑化協会の認定を受けた者）
B27: 実務経験者（注） | C27: 公的機関（国、地方公共団体、森林整備法人及び国立研究開発法人森林 研究・整備機構森林総合研究所）から受託した森林整備業務（道路・河川 ・公園の植栽維持及び下請を含む）において、管理業務の実務経験を５年 以上有する者（ただし、下記※に記載する者を専門技術者として受託した 海岸防災林造成地の植栽・保育事業における実務経験を除く）
B34: 区 分 | C34: 内 容
B35: １級造園施工管理技士 ２級造園施工管理技士 | C35: 建設業法（昭和２４年５月２４日法律第１００号）第２７条に規 定する技術検定試験に合格した者
B38: １級造園技能士 ２級造園技能士 | C38: 職業能力開発促進法（昭和４４年７月１８日法律第６４号）第 ４６条に規定する技能検定試験に合格した者
B42: ※ 海岸防災林造成地の植栽・保育事業の受注を希望する者にあっては、上記の者を「専門技術者」
B43: とすることができる。
B44: ただし、「その他森林整備業務（道路・河川・公園の植栽維持）」の実績を有し、建設業法に
B45: 定める「造園工事」の許可を受けている者に限る。

Sheet 様式第３号（別紙１）② 
A1: ２ 労働者
A3: 労働安全衛生法（昭和４７年法律第５７号）に基づき、次に掲げる各種免許・講習・教育
A4: を受けた者又は実務経験者をいう。
A5: 区分（略称） | B5: 内 容
A6: 刈払機 | B6: ・刈払機作業に係る安全衛生教育
A8: チェンソー | B8: 伐木等の業務に係る特別教育 ・チェンソー取扱いの業務に係る特別教育
A10: 玉掛 | B10: 玉掛技能講習 ・玉掛けの業務に係る特別教育
A12: はい作業 | B12: ・はい作業主任者（技能講習）
A14: クレーン | B14: ・クレーン運転士免許 ・クレーンの運転の業務に係る特別教育
B15: ・移動式クレーン運転士免許 ・小型移動式クレーン運転技能講習
B16: ・移動式クレーンの業務に係る特別教育
A17: フォークリフト | B17: ・フォークリフト運転技能講習
B18: ・フォークリフトの運転の業務に係る特別教育
A19: 車両系建設機械 | B19: ・車両系建設機械運転技能講習
B20: ・小型車両系建設機械の運転の業務に係る特別教育
A21: ショベルローダー | B21: ・ショベルローダー等運転技能講習
B22: ・ショベルローダー等の運転の業務に係る特別教育
A23: 不整地運搬車 | B23: ・不整地運搬車技能講習 ・不整地運搬車の運転の業務に係る特別教育
A25: 機械集材装置 | B25: ・林業架線作業主任者(免許) ・機械集材装置の運転の業務に係る特別教育
A26: 地山掘削 | B26: ・地山の掘削作業主任者（技能講習）
A28: 実務経験者(注) | B28: 森林整備業務（道路・河川・公園の植栽維持及び下請を含む）における 現場業務の実務経験を５年以上有する者
A32: １ 実務経験期間の数え方は､当該業務に従事した月数が通算で12か月あることをもって1年 とする。
A33: ２ 実務経験期間は、登録を希望しない業務の従事期間を含めることができる。
A34: ただし、１に掲げる実務経験者については、登録を希望する業務の従事期間を有すること。

Sheet 様式第３号（別紙２）
A1: 様式第３号（別紙２）
A3: 業務経歴書
A5: １ 氏名 | M5: ※着色されていないセルに記入しないでください。
A7: ２ 生年月日
A9: ３ 現住所
A11: ４ 職務内容
A12: 公的機関から受託した森林整備業務において、現場業務に従事する者の指導監督を行 う業務
A15: ５ 業務経歴
B16: 所属期間 | C16: 従事期間 | E16: 所属名 | F16: 主な業務内容
C17: =IF(OR(B17="",B18=""),"",(YEAR(B18)-YEAR(B17))*12+MONTH(B18)-MONTH(B17)+1)
C19: =IF(OR(B19="",B20=""),"",(YEAR(B20)-YEAR(B19))*12+MONTH(B20)-MONTH(B19)+1)
C21: =IF(OR(B21="",B22=""),"",(YEAR(B22)-YEAR(B21))*12+MONTH(B22)-MONTH(B21)+1)
B23: 計 | C23: =SUM(C17:C22) -> 0 | D23: か月 | E23: =C23 -> 0 | F23: か月／１２か月＝ | H23: =E23/12 -> 0 | I23: 年＝ | J23: =INT(H23) -> 0 | K23: 年
A25: 上記のとおり相違ありません。
F29: 氏名 | K29: 印
A32: 「雇用主の証明欄」
A34: 上記の者の業務経歴について、相違ないことを証明します。
D37: 職 | F37: 氏名 | K37: 印

Sheet 様式第４号 （入力不要）
B1: 様式第４号
B3: 森林整備業務実績調書（年度別集計）
B5: １ 森林整備に係る年度別業務実績 | L5: ※こちらのシートは自動入力のため入力不要。
L6: ただし提出は必要となります。
A7: (1) | B7: 令和７ | C7: 年度
B8: 業 務 の 種 類 | D8: 数 量 | F8: 契 約 金 額 | H8: 主な施行経歴
A9: 造林業務 | D9: ='様式第５号（R7） '!H34 -> 0 | E9: ha | F9: ='様式第５号（R7） '!J34 -> 0 | G9: 千円
A10: 保育業務 | D10: ='様式第５号（R7） '!H35 -> 0 | E10: ha | F10: ='様式第５号（R7） '!J35 -> 0 | G10: 千円
A11: 間伐業務 | D11: ='様式第５号（R7） '!H36 -> 0 | E11: ha | F11: ='様式第５号（R7） '!J36 -> 0 | G11: 千円 | H11: 「森林整備業務実績調書（ | J11: 7 | K11: 年度）」
A12: 主伐業務 | D12: ='様式第５号（R7） '!H37 -> 0 | E12: ha | F12: ='様式第５号（R7） '!J37 -> 0 | G12: 千円 | H12: のとおり～［様式第５号］
A13: その他森林整備業務 | D13: =SUM(D14:D19) -> 0 | E13: ha | F13: =SUM(F14:F19) -> 0 | G13: 千円
B14: ①病虫獣害防除 | D14: ='様式第５号（R7） '!H38 -> 0 | E14: ha | F14: ='様式第５号（R7） '!J38 -> 0 | G14: 千円
B15: ②防火線の新設・管理 | D15: ='様式第５号（R7） '!H39 -> 0 | E15: ha | F15: ='様式第５号（R7） '!J39 -> 0 | G15: 千円
B16: ③作業路の新設・補修 | D16: ='様式第５号（R7） '!H40 -> 0 | E16: ha | F16: ='様式第５号（R7） '!J40 -> 0 | G16: 千円
B17: ④生活圏の森林除染 | D17: ='様式第５号（R7） '!H41 -> 0 | E17: ha | F17: ='様式第５号（R7） '!J41 -> 0 | G17: 千円
B18: ⑤道路・河川・公園の植栽維持 | D18: ='様式第５号（R7） '!H42 -> 0 | E18: ha | F18: ='様式第５号（R7） '!J42 -> 0 | G18: 千円
B19: ⑥その他維持管理上必要な業務 | D19: ='様式第５号（R7） '!H43 -> 0 | E19: ha | F19: ='様式第５号（R7） '!J43 -> 0 | G19: 千円
A20: 計 | D20: =SUM(D9:D13) -> 0 | E20: ha | F20: =SUM(F9:F13) -> 0 | G20: 千円
A22: (2) | B22: 令和６ | C22: 年度
B23: 業 務 の 種 類 | D23: 数 量 | F23: 契 約 金 額 | H23: 主な施行経歴
A24: 造林業務 | D24: ='様式第５号 (R6)'!H34 -> 0 | E24: ha | F24: ='様式第５号 (R6)'!J34 -> 0 | G24: 千円
A25: 保育業務 | D25: ='様式第５号 (R6)'!H35 -> 0 | E25: ha | F25: ='様式第５号 (R6)'!J35 -> 0 | G25: 千円
A26: 間伐業務 | D26: ='様式第５号 (R6)'!H36 -> 0 | E26: ha | F26: ='様式第５号 (R6)'!J36 -> 0 | G26: 千円 | H26: 「森林整備業務実績調書（ | J26: 6 | K26: 年度）」
A27: 主伐業務 | D27: ='様式第５号 (R6)'!H37 -> 0 | E27: ha | F27: ='様式第５号 (R6)'!J37 -> 0 | G27: 千円 | H27: のとおり～［様式第５号］
A28: その他森林整備業務 | D28: =SUM(D29:D34) -> 0 | E28: ha | F28: =SUM(F29:F34) -> 0 | G28: 千円
B29: ①病虫獣害防除 | D29: ='様式第５号 (R6)'!H38 -> 0 | E29: ha | F29: ='様式第５号 (R6)'!J38 -> 0 | G29: 千円
B30: ②防火線の新設・管理 | D30: ='様式第５号 (R6)'!H39 -> 0 | E30: ha | F30: ='様式第５号 (R6)'!J39 -> 0 | G30: 千円
B31: ③作業路の新設・補修 | D31: ='様式第５号 (R6)'!H40 -> 0 | E31: ha | F31: ='様式第５号 (R6)'!J40 -> 0 | G31: 千円
B32: ④生活圏の森林除染 | D32: ='様式第５号 (R6)'!H41 -> 0 | E32: ha | F32: ='様式第５号 (R6)'!J41 -> 0 | G32: 千円
B33: ⑤道路・河川・公園の植栽維持 | D33: ='様式第５号 (R6)'!H42 -> 0 | E33: ha | F33: ='様式第５号 (R6)'!J42 -> 0 | G33: 千円
B34: ⑥その他維持管理上必要な業務 | D34: ='様式第５号 (R6)'!H43 -> 0 | E34: ha | F34: ='様式第５号 (R6)'!J43 -> 0 | G34: 千円
A35: 計 | D35: =SUM(D24:D28) -> 0 | E35: ha | F35: =SUM(F24:F28) -> 0 | G35: 千円
A37: (3) | B37: 令和５ | C37: 年度
B38: 業 務 の 種 類 | D38: 数 量 | F38: 契 約 金 額 | H38: 主な施行経歴
A39: 造林業務 | D39: ='様式第５号 (R5)'!H34 -> 0 | E39: ha | F39: ='様式第５号 (R5)'!J34 -> 0 | G39: 千円
A40: 保育業務 | D40: ='様式第５号 (R5)'!H35 -> 0 | E40: ha | F40: ='様式第５号 (R5)'!J35 -> 0 | G40: 千円
A41: 間伐業務 | D41: ='様式第５号 (R5)'!H36 -> 0 | E41: ha | F41: ='様式第５号 (R5)'!J36 -> 0 | G41: 千円 | H41: 「森林整備業務実績調書（ | J41: 5 | K41: 年度）」
A42: 主伐業務 | D42: ='様式第５号 (R5)'!H37 -> 0 | E42: ha | F42: ='様式第５号 (R5)'!J37 -> 0 | G42: 千円 | H42: のとおり～［様式第５号］
A43: その他森林整備業務 | D43: =SUM(D44:D49) -> 0 | E43: ha | F43: =SUM(F44:F49) -> 0 | G43: 千円
B44: ①病虫獣害防除 | D44: ='様式第５号 (R5)'!H38 -> 0 | E44: ha | F44: ='様式第５号 (R5)'!J38 -> 0 | G44: 千円
...

Sheet 様式第５号（R7） 
B1: 様式第５号
D2: 森林整備業務実績調書 ( | G2: 令和７ | H2: 年度分)
B4: 番号 | C4: 発 注 者 | D4: 元請・下請 区分 | E4: 業務の 種類 | F4: 業務名 | G4: 施行地区名 | H4: 数量 | J4: 契約金額 | L4: 契約年月日
B6: 1 | K6: 千円
C8: ( )
B9: 2 | K9: 千円
C11: ( )
B12: 3 | K12: 千円
C14: ( )
B15: 4 | K15: 千円
C17: ( )
B18: 5 | K18: 千円
C20: ( )
B21: 6 | K21: 千円
C23: ( )
B24: 7 | K24: 千円
C26: ( )
B27: 8 | K27: 千円
C29: ( )
B30: 9 | K30: 千円
C32: ( )
B33: 計 | H33: =SUMIF(I6:I32,I34,H6:H32) -> 0 | J33: =SUM(J6:J32) -> 0 | N33: ⚠数量の合計は単位「ha」のみ計上しています。
E34: 造林業務 | H34: =SUMIFS(H6:H32,I6:I32,I34,E6:E32,E34) -> 0 | I34: ha | J34: =SUMIFS(J6:J32,E6:E32,E34) -> 0
E35: 保育業務 | H35: =SUMIFS(H6:H33,I6:I33,I34,E6:E33,E35) -> 0 | I35: m3 | J35: =SUMIFS(J6:J32,E6:E32,E35) -> 0
E36: 間伐業務 | H36: =SUMIFS(H6:H32,I6:I32,I34,E6:E32,E36) -> 0 | I36: m | J36: =SUMIFS(J6:J32,E6:E32,E36) -> 0
B37: 業務の種類ごとの | E37: 主伐業務 | H37: =SUMIFS(H6:H32,I6:I32,I34,E6:E32,E37) -> 0 | J37: =SUMIFS(J6:J32,E6:E32,E37) -> 0
B38: 数値を合算し、 | E38: ①病虫獣害防除 | H38: =SUMIFS(H6:H32,I6:I32,I34,E6:E32,E38) -> 0 | J38: =SUMIFS(J6:J32,E6:E32,E38) -> 0
B39: 様式第４号に反映。 | E39: ②防火線の新設・管理 | H39: =SUMIFS(H6:H32,I6:I32,I34,E6:E32,E39) -> 0 | J39: =SUMIFS(J6:J32,E6:E32,E39) -> 0
B40: （この部分は非表示） | E40: ③作業路の新設・補修 | H40: =SUMIFS(H6:H32,I6:I32,I34,E6:E32,E40) -> 0 | J40: =SUMIFS(J6:J32,E6:E32,E40) -> 0
E41: ④生活圏の森林除染 | H41: =SUMIFS(H6:H32,I6:I32,I34,E6:E32,E41) -> 0 | J41: =SUMIFS(J6:J32,E6:E32,E41) -> 0
E42: ⑤道路・河川・公園の植栽維持 | H42: =SUMIFS(H6:H32,I6:I32,I34,E6:E32,E42) -> 0 | J42: =SUMIFS(J6:J32,E6:E32,E42) -> 0
E43: ⑥その他維持管理上必要な業務 | H43: =SUMIFS(H6:H32,I6:I32,I34,E6:E32,E43) -> 0 | J43: =SUMIFS(J6:J32,E6:E32,E43) -> 0
B46: 注１ 本表は、審査基準日直前３年の事業年度における公的機関（国、地方公共団体、森林整備法 人及び国立研究開発法人森林総合研究所）からの受注実績（下請を含む）を単年度毎に別葉に して記載し、契約書の写し（下請の場合は、下請契約書と元請契約書等（発注者が公的機関と わかる書類））を添付する。 また、契約書の写しに「業務の種類」について記載が無い場合は、業務内容がわかる書類を 併せて添付すること。 業務実績は登録を希望する業務の種類ごとに１契約以上あれば可とし、３か年すべての年度 において実績を有する必要はない。 ２ 「業務の種類」欄には、「造林、保育、間伐、主伐、その他森林整備」の別を記載する。 ３ 下請業務の場合は、「発注者」欄の（ ）に元請者名を記載し、「業務の種類、数量、 契約金額、契約年月日」欄は下請分を記載する。 ４ 数量は、少数第２位を四捨五入し、１位止めとして記載する。 なお、面積（ha）、材積（ｍ3）、延長（ｍ）の単位を記載する。 ５ 契約金額は、千円未満を四捨五入して記載する。 ６ 主伐等の実績は、「林産物売払い」に係る落札実績を含む。 ７ 「その他森林整備業務」の実績を記載する場合は、「業務の種類」欄に次の番号を必ず記載 すること。（①病虫獣害防除、②防火線の新設・管理、③作業路の新設・補修、④生活圏の 森林除染、⑤道路・河川・公園の植栽維持、⑥その他維持管理上必要な業務）

Sheet 様式第５号  (R6)
B1: 様式第５号
D2: 森林整備業務実績調書 ( | G2: 令和６ | H2: 年度分)
B4: 番号 | C4: 発 注 者 | D4: 元請・下請 区分 | E4: 業務の 種類 | F4: 業務名 | G4: 施行地区名 | H4: 数量 | J4: 契約金額 | L4: 契約年月日
B6: 1 | K6: 千円
C8: ( )
B9: 2 | K9: 千円
C11: ( )
B12: 3 | K12: 千円
C14: ( )
B15: 4 | K15: 千円
C17: ( )
B18: 5 | K18: 千円
C20: ( )
B21: 6 | K21: 千円
C23: ( )
B24: 7 | K24: 千円
C26: ( )
B27: 8 | K27: 千円
C29: ( )
B30: 9 | K30: 千円
C32: ( )
B33: 計 | H33: =SUMIF(I6:I32,I34,H6:H32) -> 0 | J33: =SUM(J6:J32) -> 0 | N33: ⚠数量の合計は単位「ha」のみ計上しています。
E34: 造林業務 | H34: =SUMIFS(H6:H32,I6:I32,I34,E6:E32,E34) -> 0 | I34: ha | J34: =SUMIFS(J6:J32,E6:E32,E34) -> 0
E35: 保育業務 | H35: =SUMIFS(H6:H33,I6:I33,I34,E6:E33,E35) -> 0 | I35: m3 | J35: =SUMIFS(J6:J32,E6:E32,E35) -> 0
E36: 間伐業務 | H36: =SUMIFS(H6:H32,I6:I32,I34,E6:E32,E36) -> 0 | I36: m | J36: =SUMIFS(J6:J32,E6:E32,E36) -> 0
B37: 業務の種類ごとの | E37: 主伐業務 | H37: =SUMIFS(H6:H32,I6:I32,I34,E6:E32,E37) -> 0 | J37: =SUMIFS(J6:J32,E6:E32,E37) -> 0
B38: 数値を合算し、 | E38: ①病虫獣害防除 | H38: =SUMIFS(H6:H32,I6:I32,I34,E6:E32,E38) -> 0 | J38: =SUMIFS(J6:J32,E6:E32,E38) -> 0
B39: 様式第４号に反映。 | E39: ②防火線の新設・管理 | H39: =SUMIFS(H6:H32,I6:I32,I34,E6:E32,E39) -> 0 | J39: =SUMIFS(J6:J32,E6:E32,E39) -> 0
B40: （この部分は非表示） | E40: ③作業路の新設・補修 | H40: =SUMIFS(H6:H32,I6:I32,I34,E6:E32,E40) -> 0 | J40: =SUMIFS(J6:J32,E6:E32,E40) -> 0
E41: ④生活圏の森林除染 | H41: =SUMIFS(H6:H32,I6:I32,I34,E6:E32,E41) -> 0 | J41: =SUMIFS(J6:J32,E6:E32,E41) -> 0
E42: ⑤道路・河川・公園の植栽維持 | H42: =SUMIFS(H6:H32,I6:I32,I34,E6:E32,E42) -> 0 | J42: =SUMIFS(J6:J32,E6:E32,E42) -> 0
E43: ⑥その他維持管理上必要な業務 | H43: =SUMIFS(H6:H32,I6:I32,I34,E6:E32,E43) -> 0 | J43: =SUMIFS(J6:J32,E6:E32,E43) -> 0
B45: 注１ 本表は、審査基準日直前３年の事業年度における公的機関（国、地方公共団体、森林整備法 人及び国立研究開発法人森林総合研究所）からの受注実績（下請を含む）を単年度毎に別葉に して記載し、契約書の写し（下請の場合は、下請契約書と元請契約書等（発注者が公的機関と わかる書類））を添付する。 また、契約書の写しに「業務の種類」について記載が無い場合は、業務内容がわかる書類を 併せて添付すること。 業務実績は登録を希望する業務の種類ごとに１契約以上あれば可とし、３か年すべての年度 において実績を有する必要はない。 ２ 「業務の種類」欄には、「造林、保育、間伐、主伐、その他森林整備」の別を記載する。 ３ 下請業務の場合は、「発注者」欄の（ ）に元請者名を記載し、「業務の種類、数量、 契約金額、契約年月日」欄は下請分を記載する。 ４ 数量は、少数第２位を四捨五入し、１位止めとして記載する。 なお、面積（ha）、材積（ｍ3）、延長（ｍ）の単位を記載する。 ５ 契約金額は、千円未満を四捨五入して記載する。 ６ 主伐等の実績は、「林産物売払い」に係る落札実績を含む。 ７ 「その他森林整備業務」の実績を記載する場合は、「業務の種類」欄に次の番号を必ず記載 すること。（①病虫獣害防除、②防火線の新設・管理、③作業路の新設・補修、④生活圏の 森林除染、⑤道路・河川・公園の植栽維持、⑥その他維持管理上必要な業務）

Sheet 様式第５号  (R5)
B1: 様式第５号
D2: 森林整備業務実績調書 ( | G2: 令和５ | H2: 年度分)
B4: 番号 | C4: 発 注 者 | D4: 元請・下請 区分 | E4: 業務の 種類 | F4: 業務名 | G4: 施行地区名 | H4: 数量 | J4: 契約金額 | L4: 契約年月日
B6: 1 | K6: 千円
C8: ( )
B9: 2 | K9: 千円
C11: ( )
B12: 3 | K12: 千円
C14: ( )
B15: 4 | K15: 千円
C17: ( )
B18: 5 | K18: 千円
C20: ( )
B21: 6 | K21: 千円
C23: ( )
B24: 7 | K24: 千円
C26: ( )
B27: 8 | K27: 千円
C29: ( )
B30: 9 | K30: 千円
C32: ( )
B33: 計 | H33: =SUMIF(I6:I32,I34,H6:H32) -> 0 | J33: =SUM(J6:J32) -> 0 | N33: ⚠数量の合計は単位「ha」のみ計上しています。
E34: 造林業務 | H34: =SUMIFS(H6:H32,I6:I32,I34,E6:E32,E34) -> 0 | I34: ha | J34: =SUMIFS(J6:J32,E6:E32,E34) -> 0
E35: 保育業務 | H35: =SUMIFS(H6:H33,I6:I33,I34,E6:E33,E35) -> 0 | I35: m3 | J35: =SUMIFS(J6:J32,E6:E32,E35) -> 0
E36: 間伐業務 | H36: =SUMIFS(H6:H32,I6:I32,I34,E6:E32,E36) -> 0 | I36: m | J36: =SUMIFS(J6:J32,E6:E32,E36) -> 0
B37: 業務の種類ごとの | E37: 主伐業務 | H37: =SUMIFS(H6:H32,I6:I32,I34,E6:E32,E37) -> 0 | J37: =SUMIFS(J6:J32,E6:E32,E37) -> 0
B38: 数値を合算し、 | E38: ①病虫獣害防除 | H38: =SUMIFS(H6:H32,I6:I32,I34,E6:E32,E38) -> 0 | J38: =SUMIFS(J6:J32,E6:E32,E38) -> 0
B39: 様式第４号に反映。 | E39: ②防火線の新設・管理 | H39: =SUMIFS(H6:H32,I6:I32,I34,E6:E32,E39) -> 0 | J39: =SUMIFS(J6:J32,E6:E32,E39) -> 0
B40: （この部分は非表示） | E40: ③作業路の新設・補修 | H40: =SUMIFS(H6:H32,I6:I32,I34,E6:E32,E40) -> 0 | J40: =SUMIFS(J6:J32,E6:E32,E40) -> 0
E41: ④生活圏の森林除染 | H41: =SUMIFS(H6:H32,I6:I32,I34,E6:E32,E41) -> 0 | J41: =SUMIFS(J6:J32,E6:E32,E41) -> 0
E42: ⑤道路・河川・公園の植栽維持 | H42: =SUMIFS(H6:H32,I6:I32,I34,E6:E32,E42) -> 0 | J42: =SUMIFS(J6:J32,E6:E32,E42) -> 0
E43: ⑥その他維持管理上必要な業務 | H43: =SUMIFS(H6:H32,I6:I32,I34,E6:E32,E43) -> 0 | J43: =SUMIFS(J6:J32,E6:E32,E43) -> 0
B45: 注１ 本表は、審査基準日直前３年の事業年度における公的機関（国、地方公共団体、森林整備法 人及び国立研究開発法人森林総合研究所）からの受注実績（下請を含む）を単年度毎に別葉に して記載し、契約書の写し（下請の場合は、下請契約書と元請契約書等（発注者が公的機関と わかる書類））を添付する。 また、契約書の写しに「業務の種類」について記載が無い場合は、業務内容がわかる書類を 併せて添付すること。 業務実績は登録を希望する業務の種類ごとに１契約以上あれば可とし、３か年すべての年度 において実績を有する必要はない。 ２ 「業務の種類」欄には、「造林、保育、間伐、主伐、その他森林整備」の別を記載する。 ３ 下請業務の場合は、「発注者」欄の（ ）に元請者名を記載し、「業務の種類、数量、 契約金額、契約年月日」欄は下請分を記載する。 ４ 数量は、少数第２位を四捨五入し、１位止めとして記載する。 なお、面積（ha）、材積（ｍ3）、延長（ｍ）の単位を記載する。 ５ 契約金額は、千円未満を四捨五入して記載する。 ６ 主伐等の実績は、「林産物売払い」に係る落札実績を含む。 ７ 「その他森林整備業務」の実績を記載する場合は、「業務の種類」欄に次の番号を必ず記載 すること。（①病虫獣害防除、②防火線の新設・管理、③作業路の新設・補修、④生活圏の 森林除染、⑤道路・河川・公園の植栽維持、⑥その他維持管理上必要な業務）

Sheet チェック表
B2: 添付書類等チェック表
D3: 商号・名称又は氏名
A4: ※提出した書類のチェック欄に「○」を記載してください。
B5: 提出書類 | C5: 法人 | D5: 個人 | E5: チェック欄
E7: 申請者 | F7: 農林事務所
A8: 1 | B8: 「森林整備業務競争入札参加資格審査申請書」 | C8: ○ | D8: ○
B9: （様式第１号）
A10: 2 | B10: 「委任状」（様式第１号（別紙）） | C10: △ | D10: －
B11: ※本店から権限を委任された支店等が申請する場合に提出が必要
A12: 3 | B12: 「誓約書」（様式第２号） | C12: ○ | D12: ○
A13: 4 | B13: 「登記事項証明書」又はその写し | C13: ○ | D13: －
B15: 「身分証明書」又はその写し | C15: － | D15: ○
B16: 「登記されていないことの証明書」又はその写し
B17: （成年被後見人、被保佐人に該当しないことの証明）
A18: 5 | B18: 「納税証明書」又はその写し | C18: ○ | D18: ○
A19: 6 | B19: 「決算書」の写し | C19: ○ | D19: －
B20: 「青色申告書」の写し | C20: － | D20: ○
B21: ※青色申告書でない場合は、白色でも可
A22: 7 | B22: 「専門技術者及び労働者に係る資格関係調書」 | C22: ○ | D22: ○
B23: （様式第３号）
B24: 資格を証明する書類（登録証等の写し） | C24: ○ | D24: ○
B25: 「業務経歴書」（様式第３号（別紙２）） | C25: △ | D25: △
B26: ※実務経験５年以上をもって資格に代える場合に提出が必要
B27: ※押印が必要
A28: 8 | B28: 従業員（社員・職員)であることを証明する書類 | C28: ○ | D28: ○
A29: 9 | B29: 「森林整備業務実績調書（年度別集計）」（様式第４号） | C29: ○ | D29: ○
B30: 「森林整備業務実績調書（各年度）」（様式第５号） | C30: ○ | D30: ○
B31: 「建設業許可通知書(造園工事業)又は建設業許可証明 書(造園工事業)の写し」 | C31: △ | D31: △
B32: ※様式第３号（別紙１）１の※印に該当する者のみ
B33: 契約書の写し（下請にあっては、元請、下請契約書等の写し）業務の種類(内容)がわかる書類 | C33: ○ | D33: ○
A35: 「○」：必ず提出、「△」：該当する場合に提出、「－」：提出不要
F39: ○
F40: △
F41: －

Sheet こちらのシートは編集・削除しないでください。
B3: 技術士 | D3: 刈払機
B4: 林業普及指導員 | D4: チェンソー
B5: 林業専門技術員 | D5: 玉掛
B6: 林業改良指導員 | D6: はい作業
B7: 林業技士 | D7: クレーン
B8: フォレストワーカー | D8: フォークリフト
B9: フォレストリーダー | D9: 車両系建設機械
B10: フォレストマネージャー | D10: ショベルローダー
B11: 実務経験者（業務経歴書のとおり） | D11: 不整地運搬車
B12: １級造園施工管理技士 | D12: 機械集材装置
B13: ２級造園施工管理技士 | D13: 地山掘削
B14: １級造園技能士 | D14: 実務経験者(注)
B15: ２級造園技能士
B18: 兼任 | D18: 造林業務
D19: 保育業務
B20: 常用 | D20: 間伐業務
B21: 常用（兼任） | D21: 主伐業務
B22: 臨時 | D22: ①病虫獣害防除
B23: 臨時（兼任） | D23: ②防火線の新設・管理
D24: ③作業路の新設・補修
B25: 元請 | D25: ④生活圏の森林除染
B26: 下請 | D26: ⑤道路・河川・公園の植栽維持
D27: ⑥その他維持管理上必要な業務
B29: ha
B30: ㎥
B31: ｍ
B32: km
B33: 本
