Workbook

Sheet 【申請時のみ】当初予算収支明細
A1: 当初予算収支明細表（サポート事業用）
A2: 事業名： | F2: 団体名：
A3: 収入明細
A4: No. | B4: 科目分類 | C4: 受入予定時期 | D4: 相手方（見込） | E4: 金額 | F4: 摘要 | G4: 明細の 有無
A5: 1 | B5: 自己財源
A6: 2 | B6: 県補助金
A7: 3
A8: 4
A9: 5
A10: 6
A11: 7
A12: 8
A13: 9
A14: 10
A15: 11
A16: 12
A17: 13
A18: 14
... A24: 20
A25: 合計 | E25: =SUM(E5:E24) -> 0
A26: 支出明細
A27: No. | B27: 科目分類 | C27: 支払予定時期 | D27: 相手方（見込） | E27: 金額 | F27: 摘要 | G27: 明細の 有無 | H27: 備考
A29: 1
A30: 2
A31: 3
A32: 4
A33: 5
A34: 6
A35: 7
A36: 8
A37: 9
A38: 10
A39: 11
A40: 12
... A128: 100
A129: 合計 | E129: =SUM(E29:E128) -> 0

Sheet 【自動入力】収支予算（当初）
A1: 第１号様式（事業計画書）添付書類
E2: ※自動入力：「当初予算収支明細」シートに入力すると自動入力されます。
A3: 収 支 予 算 書
A5: =【申請時のみ】当初予算収支明細!A2 -> 事業名： | D5: =【申請時のみ】当初予算収支明細!F2 -> 団体名： | F5: シート保護中：support
A7: １ 収入 | E7: （単位：円）
A8: 科 目 | C8: 予 算 額 ※自動入力 | D8: 調達先等（金額の内訳）
A9: 県補助金 | C9: =SUMIF(【申請時のみ】当初予算収支明細!$B$4:$B$25,'【自動入力】収支予算（当初）'!A9,【申請時のみ】当初予算収支明細!$E$4:$E$25) -> 0 | D9: 福島県地域創生総合支援事業（サポート事業）
A10: 市町村補助金 | C10: =SUMIF(【申請時のみ】当初予算収支明細!$B$4:$B$25,'【自動入力】収支予算（当初）'!A10,【申請時のみ】当初予算収支明細!$E$4:$E$25) -> 0 | D10: 別紙当初予算収支明細表のとおり
A11: 自己財源 | C11: =SUMIF(【申請時のみ】当初予算収支明細!$B$4:$B$25,'【自動入力】収支予算（当初）'!A11,【申請時のみ】当初予算収支明細!$E$4:$E$25) -> 0 | D11: 〃
A12: 事業収入 | C12: =SUMIF(【申請時のみ】当初予算収支明細!$B$4:$B$25,'【自動入力】収支予算（当初）'!A12,【申請時のみ】当初予算収支明細!$E$4:$E$25) -> 0 | D12: 〃
A13: その他収入 | C13: =SUMIF(【申請時のみ】当初予算収支明細!$B$4:$B$25,'【自動入力】収支予算（当初）'!A13,【申請時のみ】当初予算収支明細!$E$4:$E$25) -> 0 | D13: 〃
A14: 合 計 | C14: =SUM(C9:C13) -> 0
A17: ２ 支出 | E17: （単位：円）
A18: 科目 節 | B18: 細節 | C18: 経費全体額 ※自動入力 | D18: 経費の内訳
A19: 報償費 | C19: =SUMIF(【申請時のみ】当初予算収支明細!$B$28:$B$129,'【自動入力】収支予算（当初）'!A19,【申請時のみ】当初予算収支明細!$E$28:$E$129) -> 0 | D19: 別紙当初予算収支明細表のとおり
A20: 委託料 | C20: =SUMIF(【申請時のみ】当初予算収支明細!$B$28:$B$129,'【自動入力】収支予算（当初）'!A20,【申請時のみ】当初予算収支明細!$E$28:$E$129) -> 0 | D20: 〃
A21: 工事請負費 | C21: =SUMIF(【申請時のみ】当初予算収支明細!$B$28:$B$129,'【自動入力】収支予算（当初）'!A21,【申請時のみ】当初予算収支明細!$E$28:$E$129) -> 0 | D21: 〃
A22: 備品購入費 | C22: =SUMIF(【申請時のみ】当初予算収支明細!$B$28:$B$129,'【自動入力】収支予算（当初）'!A22,【申請時のみ】当初予算収支明細!$E$28:$E$129) -> 0 | D22: 〃
A23: 諸経費 | C23: =SUM(C24:C35) -> 0
B24: 旅費 | C24: =SUMIF(【申請時のみ】当初予算収支明細!$B$28:$B$129,'【自動入力】収支予算（当初）'!B24,【申請時のみ】当初予算収支明細!$E$28:$E$129) -> 0 | D24: 別紙当初予算収支明細のとおり
B25: 需用費 | C25: =SUMIF(【申請時のみ】当初予算収支明細!$B$28:$B$129,'【自動入力】収支予算（当初）'!B25,【申請時のみ】当初予算収支明細!$E$28:$E$129) -> 0 | D25: 〃
B26: 消耗品費 | C26: =SUMIF(【申請時のみ】当初予算収支明細!$B$28:$B$129,'【自動入力】収支予算（当初）'!B26,【申請時のみ】当初予算収支明細!$E$28:$E$129) -> 0 | D26: 〃
B27: 燃料費 | C27: =SUMIF(【申請時のみ】当初予算収支明細!$B$28:$B$129,'【自動入力】収支予算（当初）'!B27,【申請時のみ】当初予算収支明細!$E$28:$E$129) -> 0 | D27: 〃
B28: 食糧費 | C28: =SUMIF(【申請時のみ】当初予算収支明細!$B$28:$B$129,'【自動入力】収支予算（当初）'!B28,【申請時のみ】当初予算収支明細!$E$28:$E$129) -> 0 | D28: 〃
B29: 印刷製本費 | C29: =SUMIF(【申請時のみ】当初予算収支明細!$B$28:$B$129,'【自動入力】収支予算（当初）'!B29,【申請時のみ】当初予算収支明細!$E$28:$E$129) -> 0 | D29: 〃
B30: 役務費 | C30: =SUMIF(【申請時のみ】当初予算収支明細!$B$28:$B$129,'【自動入力】収支予算（当初）'!B30,【申請時のみ】当初予算収支明細!$E$28:$E$129) -> 0 | D30: 〃
B31: 通信運搬費 | C31: =SUMIF(【申請時のみ】当初予算収支明細!$B$28:$B$129,'【自動入力】収支予算（当初）'!B31,【申請時のみ】当初予算収支明細!$E$28:$E$129) -> 0 | D31: 〃
B32: 広告料 | C32: =SUMIF(【申請時のみ】当初予算収支明細!$B$28:$B$129,'【自動入力】収支予算（当初）'!B32,【申請時のみ】当初予算収支明細!$E$28:$E$129) -> 0 | D32: 〃
B33: 手数料 | C33: =SUMIF(【申請時のみ】当初予算収支明細!$B$28:$B$129,'【自動入力】収支予算（当初）'!B33,【申請時のみ】当初予算収支明細!$E$28:$E$129) -> 0 | D33: 〃
B34: 保険料 | C34: =SUMIF(【申請時のみ】当初予算収支明細!$B$28:$B$129,'【自動入力】収支予算（当初）'!B34,【申請時のみ】当初予算収支明細!$E$28:$E$129) -> 0 | D34: 〃
B35: 使用料及び賃借料 | C35: =SUMIF(【申請時のみ】当初予算収支明細!$B$28:$B$129,'【自動入力】収支予算（当初）'!B35,【申請時のみ】当初予算収支明細!$E$28:$E$129) -> 0 | D35: 〃
A36: 合 計 | C36: =SUM(C19:C23) -> 0

Sheet 精算収支明細
A1: 精算収支明細表（サポート事業用）
A3: 収入明細 | L3: 科目分類集計
A4: No. | B4: 科目分類 | C4: 収入済・収入予定の別 | D4: 受入日 | E4: 相手方 | F4: 金額 | G4: 摘要 | H4: 根拠資料の 有無 | L4: 科目分類 （要選択） | M4: 小計 （自動集計）
A5: 1 | B5: 県補助金 | C5: 収入済 | D5: 46204 | E5: 【要削除】入力例 | F5: 400000 | G5: 概算払額 | M5: =SUMIF(精算収支明細!$B$29:$B$130,L5,精算収支明細!$F$29:$F$130) -> 0
A6: 2 | B6: 自己財源 | C6: 収入済 | D6: 46204 | E6: 【要削除】入力例 | F6: 500000 | M6: =SUMIF(精算収支明細!$B$29:$B$130,L6,精算収支明細!$F$29:$F$130) -> 0
A7: 3 | B7: 市町村補助金 | C7: 3か月以内に収入 | D7: R8.12月 | E7: 【要削除】入力例 | F7: 500000 | M7: =SUMIF(精算収支明細!$B$29:$B$130,L7,精算収支明細!$F$29:$F$130) -> 0
A8: 4 | B8: 県補助金 | C8: 収入予定 | D8: R8.4月 | E8: 【要削除】入力例 | F8: 1600000 | G8: 精算払額 | M8: =SUMIF(精算収支明細!$B$29:$B$130,L8,精算収支明細!$F$29:$F$130) -> 0
A9: 5 | M9: =SUMIF(精算収支明細!$B$29:$B$130,L9,精算収支明細!$F$29:$F$130) -> 0
A10: 6 | M10: =SUMIF(精算収支明細!$B$29:$B$130,L10,精算収支明細!$F$29:$F$130) -> 0
A11: 7 | M11: =SUMIF(精算収支明細!$B$29:$B$130,L11,精算収支明細!$F$29:$F$130) -> 0
A12: 8 | M12: =SUMIF(精算収支明細!$B$29:$B$130,L12,精算収支明細!$F$29:$F$130) -> 0
A13: 9 | M13: =SUMIF(精算収支明細!$B$29:$B$130,L13,精算収支明細!$F$29:$F$130) -> 0
A14: 10 | M14: =SUMIF(精算収支明細!$B$29:$B$130,L14,精算収支明細!$F$29:$F$130) -> 0
A15: 11 | M15: =SUMIF(精算収支明細!$B$29:$B$130,L15,精算収支明細!$F$29:$F$130) -> 0
A16: 12 | M16: =SUMIF(精算収支明細!$B$29:$B$130,L16,精算収支明細!$F$29:$F$130) -> 0
A17: 13 | M17: =SUMIF(精算収支明細!$B$29:$B$130,L17,精算収支明細!$F$29:$F$130) -> 0
A18: 14 | M18: =SUMIF(精算収支明細!$B$29:$B$130,L18,精算収支明細!$F$29:$F$130) -> 0
A19: 15 | M19: =SUMIF(精算収支明細!$B$29:$B$130,L19,精算収支明細!$F$29:$F$130) -> 0
A20: 16 | M20: =SUMIF(精算収支明細!$B$29:$B$130,L20,精算収支明細!$F$29:$F$130) -> 0
... A24: 20 | M24: =SUMIF(精算収支明細!$B$29:$B$130,L24,精算収支明細!$F$29:$F$130) -> 0
A25: 合計 | F25: =SUM(F5:F24) -> 3000000 | L25: 合計 | M25: =SUM(M5:M24) -> 0
Q26: 黄色に染まったセルは不足書類を示しています。書類の情報を入力すると黄色は消えます。
A27: 支出明細
A28: No. | B28: 科目分類 | C28: 支出済・支出予定の別 | D28: 支払日 振込日 | E28: 相手方 | F28: 金額 | G28: 摘要 | H28: 明細・内訳 の有無 | I28: 発注日 契約日 | J28: 見積日 | K28: 見積額 | L28: ３万円を超える | M28: 10万円以上 | P28: 50万円以上 | Q28: 備考
L29: 理由書の有無 （報償費のみ） | M29: 相見積日 | N29: 相手方 又は 理由書 | O29: 相見積額 | P29: 契約書・請書の有無 （委託料、使用料 及び賃借料のみ）
A30: 1 | B30: 報償費 | C30: 支出済 | D30: 46234 | E30: 【要削除】入力例 | F30: 50000
A31: 2 | B31: 委託料 | C31: 支出済 | D31: 46234 | E31: 【要削除】入力例 | F31: 850000
A32: 3 | B32: 委託料 | C32: 3か月以内に支出 | D32: R8.3月 | E32: 【要削除】入力例 | F32: 1500000
A33: 4 | B33: 印刷製本費 | C33: 支出予定 | D33: R8.3月 | E33: 【要削除】入力例 | F33: 100000
A34: 5 | B34: 使用料及び賃借料 | C34: 支出予定 | D34: R8.3月 | E34: 【要削除】入力例 | F34: 500000
A35: 6
A36: 7
A37: 8
A38: 9
A39: 10
A40: 11
A41: 12
A42: 13
A43: 14
A44: 15
...

Sheet (精算収支明細記載例)
A1: 【記載例】精算収支明細表（サポート事業用）
A3: 収入明細 | L3: 科目分類集計 | Q3: シート保護中:support
A4: No. | B4: 科目分類 | C4: 収入済・収入予定の別 | D4: 受入日 | E4: 相手方 | F4: 金額 | G4: 摘要 | H4: 根拠資料の 有無 | L4: 科目分類 （要選択） | M4: 小計 （自動集計）
A5: 1 | B5: 自己財源 | C5: 収入済 | D5: 46113 | E5: 会費 | F5: 300000 | L5: 報償費 | M5: =SUMIF('(精算収支明細記載例)'!$B$29:$B$130,L5,'(精算収支明細記載例)'!$F$29:$F$130) -> 315000
A6: 2 | B6: 事業収入 | C6: 3か月以内に収入 | D6: 46265 | E6: 来場者 | F6: 200000 | G6: 入場料 | L6: 委託料 | M6: =SUMIF('(精算収支明細記載例)'!$B$29:$B$130,L6,'(精算収支明細記載例)'!$F$29:$F$130) -> 1700000
A7: 3 | B7: 県補助金 | C7: 3か月以内に収入 | D7: 46266 | E7: 福島県 | F7: 1600000 | G7: 概算払額 | L7: 旅費 | M7: =SUMIF('(精算収支明細記載例)'!$B$29:$B$130,L7,'(精算収支明細記載例)'!$F$29:$F$130) -> 88000
A8: 4 | B8: 市町村補助金 | C8: 3か月以内に収入 | D8: 9月 | E8: ●●町 | F8: 500000 | L8: 消耗品費 | M8: =SUMIF('(精算収支明細記載例)'!$B$29:$B$130,L8,'(精算収支明細記載例)'!$F$29:$F$130) -> 2800
A9: 5 | B9: 県補助金 | C9: 収入予定 | D9: ３月 | E9: 福島県 | F9: 400000 | G9: 精算払額 | L9: 食糧費 | M9: =SUMIF('(精算収支明細記載例)'!$B$29:$B$130,L9,'(精算収支明細記載例)'!$F$29:$F$130) -> 16000
A10: 6 | L10: 印刷製本費 | M10: =SUMIF('(精算収支明細記載例)'!$B$29:$B$130,L10,'(精算収支明細記載例)'!$F$29:$F$130) -> 400000
A11: 7 | L11: 広告料 | M11: =SUMIF('(精算収支明細記載例)'!$B$29:$B$130,L11,'(精算収支明細記載例)'!$F$29:$F$130) -> 285000
A12: 8 | L12: 手数料 | M12: =SUMIF('(精算収支明細記載例)'!$B$29:$B$130,L12,'(精算収支明細記載例)'!$F$29:$F$130) -> 13200
A13: 9 | L13: 使用料及び賃借料 | M13: =SUMIF('(精算収支明細記載例)'!$B$29:$B$130,L13,'(精算収支明細記載例)'!$F$29:$F$130) -> 180000
A14: 10 | M14: =SUMIF('(精算収支明細記載例)'!$B$29:$B$130,L14,'(精算収支明細記載例)'!$F$29:$F$130) -> 0
A15: 11 | M15: =SUMIF('(精算収支明細記載例)'!$B$29:$B$130,L15,'(精算収支明細記載例)'!$F$29:$F$130) -> 0
A16: 12 | M16: =SUMIF('(精算収支明細記載例)'!$B$29:$B$130,L16,'(精算収支明細記載例)'!$F$29:$F$130) -> 0
A17: 13 | M17: =SUMIF('(精算収支明細記載例)'!$B$29:$B$130,L17,'(精算収支明細記載例)'!$F$29:$F$130) -> 0
A18: 14 | M18: =SUMIF('(精算収支明細記載例)'!$B$29:$B$130,L18,'(精算収支明細記載例)'!$F$29:$F$130) -> 0
A19: 15 | M19: =SUMIF('(精算収支明細記載例)'!$B$29:$B$130,L19,'(精算収支明細記載例)'!$F$29:$F$130) -> 0
A20: 16 | M20: =SUMIF('(精算収支明細記載例)'!$B$29:$B$130,L20,'(精算収支明細記載例)'!$F$29:$F$130) -> 0
A21: 17 | M21: =SUMIF('(精算収支明細記載例)'!$B$29:$B$130,L21,'(精算収支明細記載例)'!$F$29:$F$130) -> 0
A22: 18 | M22: =SUMIF('(精算収支明細記載例)'!$B$29:$B$130,L22,'(精算収支明細記載例)'!$F$29:$F$130) -> 0
A23: 19 | M23: =SUMIF('(精算収支明細記載例)'!$B$29:$B$130,L23,'(精算収支明細記載例)'!$F$29:$F$130) -> 0
A24: 20 | M24: =SUMIF('(精算収支明細記載例)'!$B$29:$B$130,L24,'(精算収支明細記載例)'!$F$29:$F$130) -> 0
A25: 合計 | F25: =SUM(F5:F24) -> 3000000 | L25: 合計 | M25: =SUM(M5:M24) -> 3000000
A27: 支出明細
A28: No. | B28: 科目分類 | C28: 支出済・支出予定の別 | D28: 支払日 振込日 | E28: 相手方 | F28: 金額 | G28: 摘要 | H28: 明細・内訳 の有無 | I28: 発注日 契約日 | J28: 見積日 | K28: 見積額 | L28: ３万円を超える | M28: 10万円以上 | P28: 50万円以上 | Q28: 備考
L29: 理由書の有無 （報償費のみ） | M29: 相見積日 | N29: 相手方 又は 理由書 | O29: 相見積額 | P29: 契約書・請書の有無 （委託料、使用料 及び賃借料のみ）
A30: 1 | B30: 報償費 | C30: 支出済 | D30: 46234 | E30: ●●大学××教授 | F30: 35000 | G30: シンポジウム講師 | H30: 有 | L30: 有
A31: 2 | B31: 旅費 | C31: 支出済 | D31: 46234 | E31: JR | F31: 37000 | G31: シンポジウム講師往復旅費 （新大阪-新白河） | H31: 有
A32: 3 | B32: 印刷製本費 | C32: 支出済 | D32: 46234 | E32: （株）X印刷 | F32: 100000 | G32: チラシ・ポスター | H32: 有 | I32: 46142 | J32: 46127 | K32: 100000 | M32: 46127 | N32: Y印刷（株） | O32: 110000
A33: 4 | B33: 食糧費 | C33: 支出済 | D33: 46203 | E33: ●●弁当 | F33: 4000 | G33: シンポジウム当日弁当 800円×5人 | H33: 有
A34: 5 | B34: 使用料及び賃借料 | C34: 支出済 | D34: 46234 | E34: ●●会館 | F34: 30000 | G34: シンポジウム会場使用料 | H34: 有
A35: 6 | B35: 手数料 | C35: 支出済 | D35: 46234 | E35: ●●銀行 | F35: 3520 | G35: 振込手数料 880円×4 | H35: 有
A36: 7 | B36: 報償費 | C36: 3か月以内に支出 | D36: R8.9月 | E36: お笑い芸人A | F36: 100000 | G36: フェスティバル登壇者 | H36: 有 | L36: 有
A37: 8 | B37: 報償費 | C37: 3か月以内に支出 | D37: R8.9月 | E37: タレントB | F37: 30000 | G37: フェスティバル登壇者 | H37: 有
A38: 9 | B38: 報償費 | C38: 3か月以内に支出 | D38: R8.9月 | E38: 専門家C | F38: 50000 | G38: フェスティバル登壇者 | H38: 有 | L38: 有
A39: 10 | B39: 委託料 | C39: 3か月以内に支出 | D39: R8.9月 | E39: ●●セキュリティ（株） | F39: 200000 | G39: フェスティバル警備 | H39: 有 | I39: 46234 | J39: 46218 | K39: 200000 | M39: 46218 | N39: ●●警備（株） | O39: 250000
A40: 11 | B40: 委託料 | C40: 3か月以内に支出 | D40: R8.9月 | E40: イベンターB社 | F40: 1500000 | G40: フェスティバル設営 | H40: 有 | I40: 46234 | J40: 46218 | K40: 1500000 | M40: 46218 | N40: イベンターC | O40: 1650000 | P40: 有
A41: 12 | B41: 旅費 | C41: 3か月以内に支出 | D41: R8.9月 | E41: ●●鉄道（株） | F41: 14000 | G41: フェスティバル登壇者 往復旅費 （東京-新白河） | H41: 有
A42: 13 | B42: 消耗品費 | C42: 支出済 | D42: 46265 | E42: ホームセンター●● | F42: 2800 | G42: ガムテープ等 | H42: 有
...

Sheet 【自動入力】収支精算
C1: ※自動入力：「精算収支明細」シートに入力すると自動入力されます。
A3: 収 支 精 算 書 | H3: シート保護中：support
A5: ='【自動入力】収支予算（当初）'!A5 -> 事業名： | E5: ='【自動入力】収支予算（当初）'!D5 -> 団体名：
A7: １ 収入 | F7: （単位：円）
A8: 科 目 | C8: =IF('【自動入力】収支予算（変更）'!D14=0,"当初予算額","変更予算額") -> 当初予算額 | D8: 精算額 | E8: 差額 | F8: 金額の内訳
A9: 県補助金 | C9: =IF($C$8="変更予算額",'【自動入力】収支予算（変更）'!$D9,'【自動入力】収支予算（当初）'!$C9) -> 0 | D9: =SUMIF(精算収支明細!$B$4:$B$25,A9,精算収支明細!$F$4:$F$25) -> 2000000 | E9: =D9-C9 -> 2000000 | F9: 別紙精算収支明細表のとおり
A10: 市町村補助金 | C10: =IF($C$8="変更予算額",'【自動入力】収支予算（変更）'!$D10,'【自動入力】収支予算（当初）'!$C10) -> 0 | D10: =SUMIF(精算収支明細!$B$4:$B$25,A10,精算収支明細!$F$4:$F$25) -> 500000 | E10: =D10-C10 -> 500000 | F10: 〃
A11: 自己財源 | C11: =IF($C$8="変更予算額",'【自動入力】収支予算（変更）'!$D11,'【自動入力】収支予算（当初）'!$C11) -> 0 | D11: =SUMIF(精算収支明細!$B$4:$B$25,A11,精算収支明細!$F$4:$F$25) -> 500000 | E11: =D11-C11 -> 500000 | F11: 〃
A12: 事業収入 | C12: =IF($C$8="変更予算額",'【自動入力】収支予算（変更）'!$D12,'【自動入力】収支予算（当初）'!$C12) -> 0 | D12: =SUMIF(精算収支明細!$B$4:$B$25,A12,精算収支明細!$F$4:$F$25) -> 0 | E12: =D12-C12 -> 0 | F12: 〃
A13: その他収入 | C13: =IF($C$8="変更予算額",'【自動入力】収支予算（変更）'!$D13,'【自動入力】収支予算（当初）'!$C13) -> 0 | D13: =SUMIF(精算収支明細!$B$4:$B$25,A13,精算収支明細!$F$4:$F$25) -> 0 | E13: =D13-C13 -> 0 | F13: 〃
A14: 合 計 | C14: =SUM(C9:C13) -> 0 | D14: =SUM(D9:D13) -> 3000000 | E14: =D14-C14 -> 3000000
A16: ２ 支出 | F16: （単位：円）
A17: 科目 節 | B17: 細節 | C17: =IF('【自動入力】収支予算（変更）'!D36=0,"当初予算額","変更予算額") -> 当初予算額 | D17: 精算額 | E17: 差額 | F17: 経費の内訳 | G17: 変更申請 要否
A18: 報償費 | C18: =IF($C$17="変更予算額",'【自動入力】収支予算（変更）'!$D19,'【自動入力】収支予算（当初）'!$C19) -> 0 | D18: =SUMIF(精算収支明細!$B$29:$B$130,A18,精算収支明細!$F$29:$F$130) -> 50000 | E18: =D18-C18 -> 50000 | F18: 別紙精算収支明細表のとおり | G18: =IF(OR(AND(C18=0,D18<>0),IFERROR(ABS(D18-C18)/C18,0)>0.5),"必要","不要") -> 必要
A19: 委託料 | C19: =IF($C$17="変更予算額",'【自動入力】収支予算（変更）'!$D20,'【自動入力】収支予算（当初）'!$C20) -> 0 | D19: =SUMIF(精算収支明細!$B$29:$B$130,A19,精算収支明細!$F$29:$F$130) -> 2350000 | E19: =D19-C19 -> 2350000 | F19: 〃 | G19: =IF(OR(AND(C19=0,D19<>0),IFERROR(ABS(D19-C19)/C19,0)>0.5),"必要","不要") -> 必要
A20: 工事請負費 | C20: =IF($C$17="変更予算額",'【自動入力】収支予算（変更）'!$D21,'【自動入力】収支予算（当初）'!$C21) -> 0 | D20: =SUMIF(精算収支明細!$B$29:$B$130,A20,精算収支明細!$F$29:$F$130) -> 0 | E20: =D20-C20 -> 0 | F20: 〃 | G20: =IF(OR(AND(C20=0,D20<>0),IFERROR(ABS(D20-C20)/C20,0)>0.5),"必要","不要") -> 不要
A21: 備品購入費 | C21: =IF($C$17="変更予算額",'【自動入力】収支予算（変更）'!$D22,'【自動入力】収支予算（当初）'!$C22) -> 0 | D21: =SUMIF(精算収支明細!$B$29:$B$130,A21,精算収支明細!$F$29:$F$130) -> 0 | E21: =D21-C21 -> 0 | F21: 〃 | G21: =IF(OR(AND(C21=0,D21<>0),IFERROR(ABS(D21-C21)/C21,0)>0.5),"必要","不要") -> 不要
A22: 諸経費 | C22: =SUM(C23:C34) -> 0 | D22: =SUM(D23:D34) -> 600000 | E22: =D22-C22 -> 600000 | F22: =+SUBTOTAL(9,F23:F34) -> 0 | G22: =IF(OR(AND(C22=0,D22<>0),IFERROR(ABS(D22-C22)/C22,0)>0.5),"必要","不要") -> 必要
B23: 旅費 | C23: =IF($C$17="変更予算額",'【自動入力】収支予算（変更）'!$D24,'【自動入力】収支予算（当初）'!$C24) -> 0 | D23: =SUMIF(精算収支明細!$B$29:$B$130,B23,精算収支明細!$F$29:$F$130) -> 0 | E23: =D23-C23 -> 0 | F23: 別紙精算収支明細表のとおり
B24: 需用費 | C24: =IF($C$17="変更予算額",'【自動入力】収支予算（変更）'!$D25,'【自動入力】収支予算（当初）'!$C25) -> 0 | D24: =SUMIF(精算収支明細!$B$29:$B$130,B24,精算収支明細!$F$29:$F$130) -> 0 | E24: =D24-C24 -> 0 | F24: 〃
B25: 消耗品費 | C25: =IF($C$17="変更予算額",'【自動入力】収支予算（変更）'!$D26,'【自動入力】収支予算（当初）'!$C26) -> 0 | D25: =SUMIF(精算収支明細!$B$29:$B$130,B25,精算収支明細!$F$29:$F$130) -> 0 | E25: =D25-C25 -> 0 | F25: 〃
B26: 燃料費 | C26: =IF($C$17="変更予算額",'【自動入力】収支予算（変更）'!$D27,'【自動入力】収支予算（当初）'!$C27) -> 0 | D26: =SUMIF(精算収支明細!$B$29:$B$130,B26,精算収支明細!$F$29:$F$130) -> 0 | E26: =D26-C26 -> 0 | F26: 〃
B27: 食糧費 | C27: =IF($C$17="変更予算額",'【自動入力】収支予算（変更）'!$D28,'【自動入力】収支予算（当初）'!$C28) -> 0 | D27: =SUMIF(精算収支明細!$B$29:$B$130,B27,精算収支明細!$F$29:$F$130) -> 0 | E27: =D27-C27 -> 0 | F27: 〃
B28: 印刷製本費 | C28: =IF($C$17="変更予算額",'【自動入力】収支予算（変更）'!$D29,'【自動入力】収支予算（当初）'!$C29) -> 0 | D28: =SUMIF(精算収支明細!$B$29:$B$130,B28,精算収支明細!$F$29:$F$130) -> 100000 | E28: =D28-C28 -> 100000 | F28: 〃
B29: 役務費 | C29: =IF($C$17="変更予算額",'【自動入力】収支予算（変更）'!$D30,'【自動入力】収支予算（当初）'!$C30) -> 0 | D29: =SUMIF(精算収支明細!$B$29:$B$130,B29,精算収支明細!$F$29:$F$130) -> 0 | E29: =D29-C29 -> 0 | F29: 〃
B30: 通信運搬費 | C30: =IF($C$17="変更予算額",'【自動入力】収支予算（変更）'!$D31,'【自動入力】収支予算（当初）'!$C31) -> 0 | D30: =SUMIF(精算収支明細!$B$29:$B$130,B30,精算収支明細!$F$29:$F$130) -> 0 | E30: =D30-C30 -> 0 | F30: 〃
B31: 広告料 | C31: =IF($C$17="変更予算額",'【自動入力】収支予算（変更）'!$D32,'【自動入力】収支予算（当初）'!$C32) -> 0 | D31: =SUMIF(精算収支明細!$B$29:$B$130,B31,精算収支明細!$F$29:$F$130) -> 0 | E31: =D31-C31 -> 0 | F31: 〃
B32: 手数料 | C32: =IF($C$17="変更予算額",'【自動入力】収支予算（変更）'!$D33,'【自動入力】収支予算（当初）'!$C33) -> 0 | D32: =SUMIF(精算収支明細!$B$29:$B$130,B32,精算収支明細!$F$29:$F$130) -> 0 | E32: =D32-C32 -> 0 | F32: 〃
B33: 保険料 | C33: =IF($C$17="変更予算額",'【自動入力】収支予算（変更）'!$D34,'【自動入力】収支予算（当初）'!$C34) -> 0 | D33: =SUMIF(精算収支明細!$B$29:$B$130,B33,精算収支明細!$F$29:$F$130) -> 0 | E33: =D33-C33 -> 0 | F33: 〃
B34: 使用料及び賃借料 | C34: =IF($C$17="変更予算額",'【自動入力】収支予算（変更）'!$D35,'【自動入力】収支予算（当初）'!$C35) -> 0 | D34: =SUMIF(精算収支明細!$B$29:$B$130,B34,精算収支明細!$F$29:$F$130) -> 500000 | E34: =D34-C34 -> 500000 | F34: 〃
A35: 合 計 | C35: =SUM(C17:C22) -> 0 | D35: =SUM(D18:D22) -> 3000000 | E35: =D35-C35 -> 3000000 | G35: =IF(D35/C35<0.8,"必要","不要") -> #DIV/0!

Sheet 概算払理由書
A1: 第4号様式（概算払請求書）添付書類 | I1: ※自動入力：「精算収支明細」シートに入力すると自動入力されます。
A3: 概算払請求理由書
A5: ='【自動入力】収支予算（当初）'!A5 -> 事業名：
A7: 〔収入〕 | M7: （単位：円）
A8: 費目 | E8: =IF('【自動入力】収支予算（変更）'!$D$14=0,"当初予算額","変更予算額") -> 当初予算額 | G8: 収入済額 | I8: ３か月以内に 見込める収入 | K8: 内 訳
A9: 県補助金 | E9: =IF($E$8="変更予算額",'【自動入力】収支予算（変更）'!$D9,'【自動入力】収支予算（当初）'!$C9) -> 0 | G9: =SUMIFS(精算収支明細!$F$4:$F$25,精算収支明細!$B$4:$B$25,$A9,精算収支明細!$C$4:$C$25,"収入済") -> 400000 | K9: 福島県地域創生総合支援事業
A10: 市町村補助金 | E10: =IF($E$8="変更予算額",'【自動入力】収支予算（変更）'!$D10,'【自動入力】収支予算（当初）'!$C10) -> 0 | G10: =SUMIFS(精算収支明細!$F$4:$F$25,精算収支明細!$B$4:$B$25,$A10,精算収支明細!$C$4:$C$25,"収入済") -> 0 | I10: =SUMIFS(精算収支明細!$F$4:$F$25,精算収支明細!$B$4:$B$25,$A10,精算収支明細!$C$4:$C$25,"3か月以内に収入") -> 500000
A11: 自己財源 | E11: =IF($E$8="変更予算額",'【自動入力】収支予算（変更）'!$D11,'【自動入力】収支予算（当初）'!$C11) -> 0 | G11: =SUMIFS(精算収支明細!$F$4:$F$25,精算収支明細!$B$4:$B$25,$A11,精算収支明細!$C$4:$C$25,"収入済") -> 500000 | I11: =SUMIFS(精算収支明細!$F$4:$F$25,精算収支明細!$B$4:$B$25,$A11,精算収支明細!$C$4:$C$25,"3か月以内に収入") -> 0
A12: 事業収入 | E12: =IF($E$8="変更予算額",'【自動入力】収支予算（変更）'!$D12,'【自動入力】収支予算（当初）'!$C12) -> 0 | G12: =SUMIFS(精算収支明細!$F$4:$F$25,精算収支明細!$B$4:$B$25,$A12,精算収支明細!$C$4:$C$25,"収入済") -> 0 | I12: =SUMIFS(精算収支明細!$F$4:$F$25,精算収支明細!$B$4:$B$25,$A12,精算収支明細!$C$4:$C$25,"3か月以内に収入") -> 0
A13: その他収入 | E13: =IF($E$8="変更予算額",'【自動入力】収支予算（変更）'!$D13,'【自動入力】収支予算（当初）'!$C13) -> 0 | G13: =SUMIFS(精算収支明細!$F$4:$F$25,精算収支明細!$B$4:$B$25,$A13,精算収支明細!$C$4:$C$25,"収入済") -> 0 | I13: =SUMIFS(精算収支明細!$F$4:$F$25,精算収支明細!$B$4:$B$25,$A13,精算収支明細!$C$4:$C$25,"3か月以内に収入") -> 0
A14: 合計 | E14: =SUM(E9:E13) -> 0 | G14: =SUM(G9:G13) -> 900000 | I14: =SUM(I10:I13) -> 500000
A16: 〔支出〕 | M16: （単位：円）
A17: 費目 | E17: =IF('【自動入力】収支予算（変更）'!$D$36=0,"当初予算額","変更予算額") -> 当初予算額 | G17: 支出済額 | I17: ３か月以内に 必要な経費 | K17: 内 訳
A18: 報償費 | E18: =IF($E$17="変更予算額",'【自動入力】収支予算（変更）'!$D19,'【自動入力】収支予算（当初）'!$C19) -> 0 | G18: =SUMIFS(精算収支明細!$F$28:$F$130,精算収支明細!$B$28:$B$130,$A18,精算収支明細!$C$28:$C$130,"支出済") -> 50000 | I18: =SUMIFS(精算収支明細!$F$28:$F$130,精算収支明細!$B$28:$B$130,$A18,精算収支明細!$C$28:$C$130,"3か月以内に支出") -> 0 | K18: 別紙のとおり
A19: 委託料 | E19: =IF($E$17="変更予算額",'【自動入力】収支予算（変更）'!$D20,'【自動入力】収支予算（当初）'!$C20) -> 0 | G19: =SUMIFS(精算収支明細!$F$28:$F$130,精算収支明細!$B$28:$B$130,$A19,精算収支明細!$C$28:$C$130,"支出済") -> 850000 | I19: =SUMIFS(精算収支明細!$F$28:$F$130,精算収支明細!$B$28:$B$130,$A19,精算収支明細!$C$28:$C$130,"3か月以内に支出") -> 1500000
A20: 工事請負費 | E20: =IF($E$17="変更予算額",'【自動入力】収支予算（変更）'!$D21,'【自動入力】収支予算（当初）'!$C21) -> 0 | G20: =SUMIFS(精算収支明細!$F$28:$F$130,精算収支明細!$B$28:$B$130,$A20,精算収支明細!$C$28:$C$130,"支出済") -> 0 | I20: =SUMIFS(精算収支明細!$F$28:$F$130,精算収支明細!$B$28:$B$130,$A20,精算収支明細!$C$28:$C$130,"3か月以内に支出") -> 0
A21: 備品購入費 | E21: =IF($E$17="変更予算額",'【自動入力】収支予算（変更）'!$D22,'【自動入力】収支予算（当初）'!$C22) -> 0 | G21: =SUMIFS(精算収支明細!$F$28:$F$130,精算収支明細!$B$28:$B$130,$A21,精算収支明細!$C$28:$C$130,"支出済") -> 0 | I21: =SUMIFS(精算収支明細!$F$28:$F$130,精算収支明細!$B$28:$B$130,$A21,精算収支明細!$C$28:$C$130,"3か月以内に支出") -> 0
A22: 諸経費 | E22: =SUM(E23:F34) -> 0 | G22: =SUM(G23:G34) -> 0 | I22: =SUM(I23:I34) -> 0
B23: 旅費 | E23: =IF($E$17="変更予算額",'【自動入力】収支予算（変更）'!$D24,'【自動入力】収支予算（当初）'!$C24) -> 0 | G23: =SUMIFS(精算収支明細!$F$28:$F$130,精算収支明細!$B$28:$B$130,$B23,精算収支明細!$C$28:$C$130,"支出済") -> 0 | I23: =SUMIFS(精算収支明細!$F$28:$F$130,精算収支明細!$B$28:$B$130,$B23,精算収支明細!$C$28:$C$130,"3か月以内に支出") -> 0
B24: 需用費 | E24: =IF($E$17="変更予算額",'【自動入力】収支予算（変更）'!$D25,'【自動入力】収支予算（当初）'!$C25) -> 0 | G24: =SUMIFS(精算収支明細!$F$28:$F$130,精算収支明細!$B$28:$B$130,$B24,精算収支明細!$C$28:$C$130,"支出済") -> 0 | I24: =SUMIFS(精算収支明細!$F$28:$F$130,精算収支明細!$B$28:$B$130,$B24,精算収支明細!$C$28:$C$130,"3か月以内に支出") -> 0
B25: 消耗品費 | E25: =IF($E$17="変更予算額",'【自動入力】収支予算（変更）'!$D26,'【自動入力】収支予算（当初）'!$C26) -> 0 | G25: =SUMIFS(精算収支明細!$F$28:$F$130,精算収支明細!$B$28:$B$130,$B25,精算収支明細!$C$28:$C$130,"支出済") -> 0 | I25: =SUMIFS(精算収支明細!$F$28:$F$130,精算収支明細!$B$28:$B$130,$B25,精算収支明細!$C$28:$C$130,"3か月以内に支出") -> 0
B26: 燃料費 | E26: =IF($E$17="変更予算額",'【自動入力】収支予算（変更）'!$D27,'【自動入力】収支予算（当初）'!$C27) -> 0 | G26: =SUMIFS(精算収支明細!$F$28:$F$130,精算収支明細!$B$28:$B$130,$B26,精算収支明細!$C$28:$C$130,"支出済") -> 0 | I26: =SUMIFS(精算収支明細!$F$28:$F$130,精算収支明細!$B$28:$B$130,$B26,精算収支明細!$C$28:$C$130,"3か月以内に支出") -> 0
B27: 食糧費 | E27: =IF($E$17="変更予算額",'【自動入力】収支予算（変更）'!$D28,'【自動入力】収支予算（当初）'!$C28) -> 0 | G27: =SUMIFS(精算収支明細!$F$28:$F$130,精算収支明細!$B$28:$B$130,$B27,精算収支明細!$C$28:$C$130,"支出済") -> 0 | I27: =SUMIFS(精算収支明細!$F$28:$F$130,精算収支明細!$B$28:$B$130,$B27,精算収支明細!$C$28:$C$130,"3か月以内に支出") -> 0
B28: 印刷製本費 | E28: =IF($E$17="変更予算額",'【自動入力】収支予算（変更）'!$D29,'【自動入力】収支予算（当初）'!$C29) -> 0 | G28: =SUMIFS(精算収支明細!$F$28:$F$130,精算収支明細!$B$28:$B$130,$B28,精算収支明細!$C$28:$C$130,"支出済") -> 0 | I28: =SUMIFS(精算収支明細!$F$28:$F$130,精算収支明細!$B$28:$B$130,$B28,精算収支明細!$C$28:$C$130,"3か月以内に支出") -> 0
B29: 役務費 | E29: =IF($E$17="変更予算額",'【自動入力】収支予算（変更）'!$D30,'【自動入力】収支予算（当初）'!$C30) -> 0 | G29: =SUMIFS(精算収支明細!$F$28:$F$130,精算収支明細!$B$28:$B$130,$B29,精算収支明細!$C$28:$C$130,"支出済") -> 0 | I29: =SUMIFS(精算収支明細!$F$28:$F$130,精算収支明細!$B$28:$B$130,$B29,精算収支明細!$C$28:$C$130,"3か月以内に支出") -> 0
B30: 通信運搬費 | E30: =IF($E$17="変更予算額",'【自動入力】収支予算（変更）'!$D31,'【自動入力】収支予算（当初）'!$C31) -> 0 | G30: =SUMIFS(精算収支明細!$F$28:$F$130,精算収支明細!$B$28:$B$130,$B30,精算収支明細!$C$28:$C$130,"支出済") -> 0 | I30: =SUMIFS(精算収支明細!$F$28:$F$130,精算収支明細!$B$28:$B$130,$B30,精算収支明細!$C$28:$C$130,"3か月以内に支出") -> 0
B31: 広告料 | E31: =IF($E$17="変更予算額",'【自動入力】収支予算（変更）'!$D32,'【自動入力】収支予算（当初）'!$C32) -> 0 | G31: =SUMIFS(精算収支明細!$F$28:$F$130,精算収支明細!$B$28:$B$130,$B31,精算収支明細!$C$28:$C$130,"支出済") -> 0 | I31: =SUMIFS(精算収支明細!$F$28:$F$130,精算収支明細!$B$28:$B$130,$B31,精算収支明細!$C$28:$C$130,"3か月以内に支出") -> 0
B32: 手数料 | E32: =IF($E$17="変更予算額",'【自動入力】収支予算（変更）'!$D33,'【自動入力】収支予算（当初）'!$C33) -> 0 | G32: =SUMIFS(精算収支明細!$F$28:$F$130,精算収支明細!$B$28:$B$130,$B32,精算収支明細!$C$28:$C$130,"支出済") -> 0 | I32: =SUMIFS(精算収支明細!$F$28:$F$130,精算収支明細!$B$28:$B$130,$B32,精算収支明細!$C$28:$C$130,"3か月以内に支出") -> 0
B33: 保険料 | E33: =IF($E$17="変更予算額",'【自動入力】収支予算（変更）'!$D34,'【自動入力】収支予算（当初）'!$C34) -> 0 | G33: =SUMIFS(精算収支明細!$F$28:$F$130,精算収支明細!$B$28:$B$130,$B33,精算収支明細!$C$28:$C$130,"支出済") -> 0 | I33: =SUMIFS(精算収支明細!$F$28:$F$130,精算収支明細!$B$28:$B$130,$B33,精算収支明細!$C$28:$C$130,"3か月以内に支出") -> 0
B34: 使用料及び賃借料 | E34: =IF($E$17="変更予算額",'【自動入力】収支予算（変更）'!$D35,'【自動入力】収支予算（当初）'!$C35) -> 0 | G34: =SUMIFS(精算収支明細!$F$28:$F$130,精算収支明細!$B$28:$B$130,$B34,精算収支明細!$C$28:$C$130,"支出済") -> 0 | I34: =SUMIFS(精算収支明細!$F$28:$F$130,精算収支明細!$B$28:$B$130,$B34,精算収支明細!$C$28:$C$130,"3か月以内に支出") -> 0
A35: 合計 | E35: =SUM(E18:E22) -> 0 | G35: =SUM(G18:G22) -> 900000 | I35: =SUM(I18:I22) -> 1500000
A37: 早期に 必要な経費 | D37: 早期に 見込める収入 | F37: 収入済額 | H37: 支出済額 | K37: 概算払請求額（円）
A38: =I35 -> 1500000 | C38: - | D38: =+I14 -> 500000 | E38: -( | F38: =+G14 -> 900000 | G38: - | H38: =+G35 -> 900000 | I38: ) | J38: ＝ | K38: =+A38-D38-F38+H38 -> 1000000 | L38: → | M38: =IF((K38+G9)>E9*0.8,ROUNDDOWN(E9*0.8-G9,-3),ROUNDDOWN(K38,-3)) -> -400000
L39: =+IF((K38+G13)>F13*0.8,"(補助金額の8割）","(千円未満切捨)") -> (補助金額の8割）
A41: 【概算払いを請求する理由】
A45: 【支払希望日】
A46: 令和 年 月 日

Sheet 実施状況報告
A1: 第5号様式（実施状況報告書）別紙 | F1: ※自動入力：「精算収支明細」シートに入力すると自動入力されます。
D2: ='【自動入力】収支予算（当初）'!A5 -> 事業名： | K2: シート保護中：support
A3: 1 収入内訳 | J3: （単位：円）
A5: 区分 | D5: =IF('【自動入力】収支予算（変更）'!$D$14=0,"当初予算額 a","変更予算額 a") -> 当初予算額 a | E5: 決算見込額（●月●日時点） | G5: 増減 b+c-a | H5: 摘要
E6: 収入済額 b | F6: 収入予定額 c
A7: 県補助金 | D7: =IF($D$5="変更予算額 a",'【自動入力】収支予算（変更）'!$D9,'【自動入力】収支予算（当初）'!$C9) -> 0 | E7: =SUMIFS(精算収支明細!$F$4:$F$25,精算収支明細!$B$4:$B$25,実施状況報告!$A7,精算収支明細!$C$4:$C$25,"収入済") -> 400000 | F7: {=SUM(SUMIFS(精算収支明細!$F$4:$F$25,精算収支明細!$B$4:$B$25,実施状況報告!$A7,精算収支明細!$C$4:$C$25,{"収入予定","3か月以内に収入"}))} -> 1600000 | G7: =E7+F7-D7 -> 2000000 | H7: 福島県地域創生総合支援事業
A8: 市町村補助金 | D8: =IF($D$5="変更予算額 a",'【自動入力】収支予算（変更）'!$D10,'【自動入力】収支予算（当初）'!$C10) -> 0 | E8: =SUMIFS(精算収支明細!$F$4:$F$25,精算収支明細!$B$4:$B$25,実施状況報告!$A8,精算収支明細!$C$4:$C$25,"収入済") -> 0 | F8: {=SUM(SUMIFS(精算収支明細!$F$4:$F$25,精算収支明細!$B$4:$B$25,実施状況報告!$A8,精算収支明細!$C$4:$C$25,{"収入予定","3か月以内に収入"}))} -> 500000 | G8: =E8+F8-D8 -> 500000 | H8: 別紙収支明細のとおり
A9: 自己財源 | D9: =IF($D$5="変更予算額 a",'【自動入力】収支予算（変更）'!$D11,'【自動入力】収支予算（当初）'!$C11) -> 0 | E9: =SUMIFS(精算収支明細!$F$4:$F$25,精算収支明細!$B$4:$B$25,実施状況報告!$A9,精算収支明細!$C$4:$C$25,"収入済") -> 500000 | F9: {=SUM(SUMIFS(精算収支明細!$F$4:$F$25,精算収支明細!$B$4:$B$25,実施状況報告!$A9,精算収支明細!$C$4:$C$25,{"収入予定","3か月以内に収入"}))} -> 0 | G9: =E9+F9-D9 -> 500000 | H9: 別紙収支明細のとおり
A10: 事業収入 | D10: =IF($D$5="変更予算額 a",'【自動入力】収支予算（変更）'!$D12,'【自動入力】収支予算（当初）'!$C12) -> 0 | E10: =SUMIFS(精算収支明細!$F$4:$F$25,精算収支明細!$B$4:$B$25,実施状況報告!$A10,精算収支明細!$C$4:$C$25,"収入済") -> 0 | F10: {=SUM(SUMIFS(精算収支明細!$F$4:$F$25,精算収支明細!$B$4:$B$25,実施状況報告!$A10,精算収支明細!$C$4:$C$25,{"収入予定","3か月以内に収入"}))} -> 0 | G10: =E10+F10-D10 -> 0 | H10: 別紙収支明細のとおり
A11: その他収入 | D11: =IF($D$5="変更予算額 a",'【自動入力】収支予算（変更）'!$D13,'【自動入力】収支予算（当初）'!$C13) -> 0 | E11: =SUMIFS(精算収支明細!$F$4:$F$25,精算収支明細!$B$4:$B$25,実施状況報告!$A11,精算収支明細!$C$4:$C$25,"収入済") -> 0 | F11: {=SUM(SUMIFS(精算収支明細!$F$4:$F$25,精算収支明細!$B$4:$B$25,実施状況報告!$A11,精算収支明細!$C$4:$C$25,{"収入予定","3か月以内に収入"}))} -> 0 | G11: =E11+F11-D11 -> 0 | H11: 別紙収支明細のとおり
A12: 合計 | D12: =+SUM(D7:D11) -> 0 | E12: =+SUM(E7:E11) -> 900000 | F12: =SUM(F7:F11) -> 2100000 | G12: =SUM(G7:G11) -> 3000000
A14: ２ 支出内訳 | J14: （単位：円）
A15: 区分 | D15: =IF('【自動入力】収支予算（変更）'!$D$36=0,"当初予算額 d","変更予算額 d") -> 当初予算額 d | E15: 決算見込額（●月●日時点） | G15: 増減 ｅ+ｆ-d | H15: 摘要
E16: 支出済額 e | F16: 支出予定額 f
A17: 報償費 | D17: =IF($D$15="変更予算額 d",'【自動入力】収支予算（変更）'!$D19,'【自動入力】収支予算（当初）'!$C19) -> 0 | E17: =SUMIFS(精算収支明細!$F$28:$F$130,精算収支明細!$B$28:$B$130,実施状況報告!$A17,精算収支明細!$C$28:$C$130,"支出済") -> 50000 | F17: {=SUM(SUMIFS(精算収支明細!$F$28:$F$130,精算収支明細!$B$28:$B$130,実施状況報告!$A17,精算収支明細!$C$28:$C$130,{"支出予定","3か月以内に支出"}))} -> 0 | G17: =E17+F17-D17 -> 50000 | H17: 別紙収支明細のとおり
A18: 委託料 | D18: =IF($D$15="変更予算額 d",'【自動入力】収支予算（変更）'!$D20,'【自動入力】収支予算（当初）'!$C20) -> 0 | E18: =SUMIFS(精算収支明細!$F$28:$F$130,精算収支明細!$B$28:$B$130,実施状況報告!$A18,精算収支明細!$C$28:$C$130,"支出済") -> 850000 | F18: {=SUM(SUMIFS(精算収支明細!$F$28:$F$130,精算収支明細!$B$28:$B$130,実施状況報告!$A18,精算収支明細!$C$28:$C$130,{"支出予定","3か月以内に支出"}))} -> 1500000 | G18: =E18+F18-D18 -> 2350000 | H18: 別紙収支明細のとおり
A19: 工事請負費 | D19: =IF($D$15="変更予算額 d",'【自動入力】収支予算（変更）'!$D21,'【自動入力】収支予算（当初）'!$C21) -> 0 | E19: =SUMIFS(精算収支明細!$F$28:$F$130,精算収支明細!$B$28:$B$130,実施状況報告!$A19,精算収支明細!$C$28:$C$130,"支出済") -> 0 | F19: {=SUM(SUMIFS(精算収支明細!$F$28:$F$130,精算収支明細!$B$28:$B$130,実施状況報告!$A19,精算収支明細!$C$28:$C$130,{"支出予定","3か月以内に支出"}))} -> 0 | G19: =E19+F19-D19 -> 0 | H19: 別紙収支明細のとおり
A20: 備品購入費 | D20: =IF($D$15="変更予算額 d",'【自動入力】収支予算（変更）'!$D22,'【自動入力】収支予算（当初）'!$C22) -> 0 | E20: =SUMIFS(精算収支明細!$F$28:$F$130,精算収支明細!$B$28:$B$130,実施状況報告!$A20,精算収支明細!$C$28:$C$130,"支出済") -> 0 | F20: {=SUM(SUMIFS(精算収支明細!$F$28:$F$130,精算収支明細!$B$28:$B$130,実施状況報告!$A20,精算収支明細!$C$28:$C$130,{"支出予定","3か月以内に支出"}))} -> 0 | G20: =E20+F20-D20 -> 0 | H20: 別紙収支明細のとおり
A21: 諸経費 | D21: =SUM(D22:D33) -> 0 | E21: =SUM(E22:E33) -> 0 | F21: =SUM(F22:F33) -> 600000 | G21: =E21+F21-D21 -> 600000
B22: 旅費 | D22: =IF($D$15="変更予算額 d",'【自動入力】収支予算（変更）'!$D24,'【自動入力】収支予算（当初）'!$C24) -> 0 | E22: =SUMIFS(精算収支明細!$F$28:$F$130,精算収支明細!$B$28:$B$130,実施状況報告!$B22,精算収支明細!$C$28:$C$130,"支出済") -> 0 | F22: {=SUM(SUMIFS(精算収支明細!$F$28:$F$130,精算収支明細!$B$28:$B$130,実施状況報告!$B22,精算収支明細!$C$28:$C$130,{"支出予定","3か月以内に支出"}))} -> 0 | G22: =E22+F22-D22 -> 0 | H22: 別紙収支明細のとおり
B23: 需用費 | D23: =IF($D$15="変更予算額 d",'【自動入力】収支予算（変更）'!$D25,'【自動入力】収支予算（当初）'!$C25) -> 0 | E23: =SUMIFS(精算収支明細!$F$28:$F$130,精算収支明細!$B$28:$B$130,実施状況報告!$B23,精算収支明細!$C$28:$C$130,"支出済") -> 0 | F23: {=SUM(SUMIFS(精算収支明細!$F$28:$F$130,精算収支明細!$B$28:$B$130,実施状況報告!$B23,精算収支明細!$C$28:$C$130,{"支出予定","3か月以内に支出"}))} -> 0 | G23: =E23+F23-D23 -> 0 | H23: 別紙収支明細のとおり
B24: 消耗品費 | D24: =IF($D$15="変更予算額 d",'【自動入力】収支予算（変更）'!$D26,'【自動入力】収支予算（当初）'!$C26) -> 0 | E24: =SUMIFS(精算収支明細!$F$28:$F$130,精算収支明細!$B$28:$B$130,実施状況報告!$B24,精算収支明細!$C$28:$C$130,"支出済") -> 0 | F24: {=SUM(SUMIFS(精算収支明細!$F$28:$F$130,精算収支明細!$B$28:$B$130,実施状況報告!$B24,精算収支明細!$C$28:$C$130,{"支出予定","3か月以内に支出"}))} -> 0 | G24: =E24+F24-D24 -> 0 | H24: 別紙収支明細のとおり
B25: 燃料費 | D25: =IF($D$15="変更予算額 d",'【自動入力】収支予算（変更）'!$D27,'【自動入力】収支予算（当初）'!$C27) -> 0 | E25: =SUMIFS(精算収支明細!$F$28:$F$130,精算収支明細!$B$28:$B$130,実施状況報告!$B25,精算収支明細!$C$28:$C$130,"支出済") -> 0 | F25: {=SUM(SUMIFS(精算収支明細!$F$28:$F$130,精算収支明細!$B$28:$B$130,実施状況報告!$B25,精算収支明細!$C$28:$C$130,{"支出予定","3か月以内に支出"}))} -> 0 | G25: =E25+F25-D25 -> 0 | H25: 別紙収支明細のとおり
B26: 食糧費 | D26: =IF($D$15="変更予算額 d",'【自動入力】収支予算（変更）'!$D28,'【自動入力】収支予算（当初）'!$C28) -> 0 | E26: =SUMIFS(精算収支明細!$F$28:$F$130,精算収支明細!$B$28:$B$130,実施状況報告!$B26,精算収支明細!$C$28:$C$130,"支出済") -> 0 | F26: {=SUM(SUMIFS(精算収支明細!$F$28:$F$130,精算収支明細!$B$28:$B$130,実施状況報告!$B26,精算収支明細!$C$28:$C$130,{"支出予定","3か月以内に支出"}))} -> 0 | G26: =E26+F26-D26 -> 0 | H26: 別紙収支明細のとおり
B27: 印刷製本費 | D27: =IF($D$15="変更予算額 d",'【自動入力】収支予算（変更）'!$D29,'【自動入力】収支予算（当初）'!$C29) -> 0 | E27: =SUMIFS(精算収支明細!$F$28:$F$130,精算収支明細!$B$28:$B$130,実施状況報告!$B27,精算収支明細!$C$28:$C$130,"支出済") -> 0 | F27: {=SUM(SUMIFS(精算収支明細!$F$28:$F$130,精算収支明細!$B$28:$B$130,実施状況報告!$B27,精算収支明細!$C$28:$C$130,{"支出予定","3か月以内に支出"}))} -> 100000 | G27: =E27+F27-D27 -> 100000 | H27: 別紙収支明細のとおり
B28: 役務費 | D28: =IF($D$15="変更予算額 d",'【自動入力】収支予算（変更）'!$D30,'【自動入力】収支予算（当初）'!$C30) -> 0 | E28: =SUMIFS(精算収支明細!$F$28:$F$130,精算収支明細!$B$28:$B$130,実施状況報告!$B28,精算収支明細!$C$28:$C$130,"支出済") -> 0 | F28: {=SUM(SUMIFS(精算収支明細!$F$28:$F$130,精算収支明細!$B$28:$B$130,実施状況報告!$B28,精算収支明細!$C$28:$C$130,{"支出予定","3か月以内に支出"}))} -> 0 | G28: =E28+F28-D28 -> 0 | H28: 別紙収支明細のとおり
B29: 通信運搬費 | D29: =IF($D$15="変更予算額 d",'【自動入力】収支予算（変更）'!$D31,'【自動入力】収支予算（当初）'!$C31) -> 0 | E29: =SUMIFS(精算収支明細!$F$28:$F$130,精算収支明細!$B$28:$B$130,実施状況報告!$B29,精算収支明細!$C$28:$C$130,"支出済") -> 0 | F29: {=SUM(SUMIFS(精算収支明細!$F$28:$F$130,精算収支明細!$B$28:$B$130,実施状況報告!$B29,精算収支明細!$C$28:$C$130,{"支出予定","3か月以内に支出"}))} -> 0 | G29: =E29+F29-D29 -> 0 | H29: 別紙収支明細のとおり
B30: 広告料 | D30: =IF($D$15="変更予算額 d",'【自動入力】収支予算（変更）'!$D32,'【自動入力】収支予算（当初）'!$C32) -> 0 | E30: =SUMIFS(精算収支明細!$F$28:$F$130,精算収支明細!$B$28:$B$130,実施状況報告!$B30,精算収支明細!$C$28:$C$130,"支出済") -> 0 | F30: {=SUM(SUMIFS(精算収支明細!$F$28:$F$130,精算収支明細!$B$28:$B$130,実施状況報告!$B30,精算収支明細!$C$28:$C$130,{"支出予定","3か月以内に支出"}))} -> 0 | G30: =E30+F30-D30 -> 0 | H30: 別紙収支明細のとおり
B31: 手数料 | D31: =IF($D$15="変更予算額 d",'【自動入力】収支予算（変更）'!$D33,'【自動入力】収支予算（当初）'!$C33) -> 0 | E31: =SUMIFS(精算収支明細!$F$28:$F$130,精算収支明細!$B$28:$B$130,実施状況報告!$B31,精算収支明細!$C$28:$C$130,"支出済") -> 0 | F31: {=SUM(SUMIFS(精算収支明細!$F$28:$F$130,精算収支明細!$B$28:$B$130,実施状況報告!$B31,精算収支明細!$C$28:$C$130,{"支出予定","3か月以内に支出"}))} -> 0 | G31: =E31+F31-D31 -> 0 | H31: 別紙収支明細のとおり
B32: 保険料 | D32: =IF($D$15="変更予算額 d",'【自動入力】収支予算（変更）'!$D34,'【自動入力】収支予算（当初）'!$C34) -> 0 | E32: =SUMIFS(精算収支明細!$F$28:$F$130,精算収支明細!$B$28:$B$130,実施状況報告!$B32,精算収支明細!$C$28:$C$130,"支出済") -> 0 | F32: {=SUM(SUMIFS(精算収支明細!$F$28:$F$130,精算収支明細!$B$28:$B$130,実施状況報告!$B32,精算収支明細!$C$28:$C$130,{"支出予定","3か月以内に支出"}))} -> 0 | G32: =E32+F32-D32 -> 0 | H32: 別紙収支明細のとおり
B33: 使用料及び賃借料 | D33: =IF($D$15="変更予算額 d",'【自動入力】収支予算（変更）'!$D35,'【自動入力】収支予算（当初）'!$C35) -> 0 | E33: =SUMIFS(精算収支明細!$F$28:$F$130,精算収支明細!$B$28:$B$130,実施状況報告!$B33,精算収支明細!$C$28:$C$130,"支出済") -> 0 | F33: {=SUM(SUMIFS(精算収支明細!$F$28:$F$130,精算収支明細!$B$28:$B$130,実施状況報告!$B33,精算収支明細!$C$28:$C$130,{"支出予定","3か月以内に支出"}))} -> 500000 | G33: =E33+F33-D33 -> 500000 | H33: 別紙収支明細のとおり
A34: 補助対象外経費 | G34: =D34-E34-F34 -> 0
A35: 合計 | D35: =SUM(D17:D21)+D34 -> 0 | E35: =SUM(E17:E21)+E34 -> 900000 | F35: =SUM(F17:F21)+F34 -> 2100000 | G35: =SUM(G17:G21)+G34 -> 3000000
A37: 3 実施状況
B38: 以下の設問に回答ください。
B39: (1)交付決定時の補助対象事業費(総額)から20％を超える減額が見込まれますか？
B40: 選択
B41: (2)「3支出内訳」内の各経費相互間において、50％を超える経費の配分の変更はありますか？
B42: 選択 | E42: 具体的な費目(選択) | I42: ⇔
B43: (3)事業の主要な取組内容について、変更・削減・追加はありますか？
...

Sheet 【自動入力】収支予算（変更）
A1: 第１号様式（事業計画書）添付書類 | D1: ※転記：「収支予算（当初）」シートから転記します。
D2: ※自動入力：「変更予算収支明細」シートに入力すると自動入力されます。
A3: 収 支 予 算 書（変更） | H3: シート保護中：support
A5: ='【自動入力】収支予算（当初）'!A5 -> 事業名： | F5: ='【自動入力】収支予算（当初）'!D5 -> 団体名：
A7: １ 収入 | G7: （単位：円）
A8: 科 目 | C8: 当初予算額 （転記） | D8: 変更予算額 (自動入力) | E8: 増 減 | F8: 調達先等（金額の内訳）
A9: 県補助金 | C9: ='【自動入力】収支予算（当初）'!C9 -> 0 | D9: =SUMIF('【変更時のみ入力】変更予算収支明細 '!$B$4:$B$25,$A9,'【変更時のみ入力】変更予算収支明細 '!$E$4:$E$25) -> 0 | E9: =+D9-C9 -> 0 | F9: 福島県地域創生総合支援事業（サポート事業）
A10: 市町村補助金 | C10: ='【自動入力】収支予算（当初）'!C10 -> 0 | D10: =SUMIF('【変更時のみ入力】変更予算収支明細 '!$B$4:$B$25,$A10,'【変更時のみ入力】変更予算収支明細 '!$E$4:$E$25) -> 0 | E10: =+D10-C10 -> 0 | F10: 別紙変更予算収支明細表のとおり
A11: 自己財源 | C11: ='【自動入力】収支予算（当初）'!C11 -> 0 | D11: =SUMIF('【変更時のみ入力】変更予算収支明細 '!$B$4:$B$25,$A11,'【変更時のみ入力】変更予算収支明細 '!$E$4:$E$25) -> 0 | E11: =+D11-C11 -> 0 | F11: 〃
A12: 事業収入 | C12: ='【自動入力】収支予算（当初）'!C12 -> 0 | D12: =SUMIF('【変更時のみ入力】変更予算収支明細 '!$B$4:$B$25,$A12,'【変更時のみ入力】変更予算収支明細 '!$E$4:$E$25) -> 0 | E12: =+D12-C12 -> 0 | F12: 〃
A13: その他収入 | C13: ='【自動入力】収支予算（当初）'!C13 -> 0 | D13: =SUMIF('【変更時のみ入力】変更予算収支明細 '!$B$4:$B$25,$A13,'【変更時のみ入力】変更予算収支明細 '!$E$4:$E$25) -> 0 | E13: =+D13-C13 -> 0 | F13: 〃
A14: 合 計 | C14: =SUM(C9:C13) -> 0 | D14: =SUM(D9:D13) -> 0 | E14: =+E36 -> 0
A17: ２ 支出 | G17: （単位：円）
A18: 科目 節 | B18: 細節 | C18: 当初予算額 （転記） | D18: 変更予算額 (自動入力) | E18: 増 減 | F18: 経費の内訳
A19: 報償費 | C19: ='【自動入力】収支予算（当初）'!C19 -> 0 | D19: =SUMIF('【変更時のみ入力】変更予算収支明細 '!$B$27:$B$129,$A19,'【変更時のみ入力】変更予算収支明細 '!$E$27:$E$129) -> 0 | E19: =+D19-C19 -> 0 | F19: 別紙変更予算収支明細表のとおり
A20: 委託料 | C20: ='【自動入力】収支予算（当初）'!C20 -> 0 | D20: =SUMIF('【変更時のみ入力】変更予算収支明細 '!$B$27:$B$129,$A20,'【変更時のみ入力】変更予算収支明細 '!$E$27:$E$129) -> 0 | E20: =+D20-C20 -> 0 | F20: 〃
A21: 工事請負費 | C21: ='【自動入力】収支予算（当初）'!C21 -> 0 | D21: =SUMIF('【変更時のみ入力】変更予算収支明細 '!$B$27:$B$129,$A21,'【変更時のみ入力】変更予算収支明細 '!$E$27:$E$129) -> 0 | E21: =+D21-C21 -> 0 | F21: 〃
A22: 備品購入費 | C22: ='【自動入力】収支予算（当初）'!C22 -> 0 | D22: =SUMIF('【変更時のみ入力】変更予算収支明細 '!$B$27:$B$129,$A22,'【変更時のみ入力】変更予算収支明細 '!$E$27:$E$129) -> 0 | E22: =+D22-C22 -> 0 | F22: 〃
A23: 諸経費 | C23: =SUM(C24:C35) -> 0 | D23: =SUM(D24:D35) -> 0 | E23: =SUM(E24:E35) -> 0
B24: 旅費 | C24: ='【自動入力】収支予算（当初）'!C24 -> 0 | D24: =SUMIF('【変更時のみ入力】変更予算収支明細 '!$B$27:$B$129,$B24,'【変更時のみ入力】変更予算収支明細 '!$E$27:$E$129) -> 0 | E24: =+D24-C24 -> 0 | F24: 別紙変更予算収支明細表のとおり
B25: 需用費 | C25: ='【自動入力】収支予算（当初）'!C25 -> 0 | D25: =SUMIF('【変更時のみ入力】変更予算収支明細 '!$B$27:$B$129,$B25,'【変更時のみ入力】変更予算収支明細 '!$E$27:$E$129) -> 0 | E25: =+D25-C25 -> 0 | F25: 〃
B26: 消耗品費 | C26: ='【自動入力】収支予算（当初）'!C26 -> 0 | D26: =SUMIF('【変更時のみ入力】変更予算収支明細 '!$B$27:$B$129,$B26,'【変更時のみ入力】変更予算収支明細 '!$E$27:$E$129) -> 0 | E26: =+D26-C26 -> 0 | F26: 〃
B27: 燃料費 | C27: ='【自動入力】収支予算（当初）'!C27 -> 0 | D27: =SUMIF('【変更時のみ入力】変更予算収支明細 '!$B$27:$B$129,$B27,'【変更時のみ入力】変更予算収支明細 '!$E$27:$E$129) -> 0 | E27: =+D27-C27 -> 0 | F27: 〃
B28: 食糧費 | C28: ='【自動入力】収支予算（当初）'!C28 -> 0 | D28: =SUMIF('【変更時のみ入力】変更予算収支明細 '!$B$27:$B$129,$B28,'【変更時のみ入力】変更予算収支明細 '!$E$27:$E$129) -> 0 | E28: =+D28-C28 -> 0 | F28: 〃
B29: 印刷製本費 | C29: ='【自動入力】収支予算（当初）'!C29 -> 0 | D29: =SUMIF('【変更時のみ入力】変更予算収支明細 '!$B$27:$B$129,$B29,'【変更時のみ入力】変更予算収支明細 '!$E$27:$E$129) -> 0 | E29: =+D29-C29 -> 0 | F29: 〃
B30: 役務費 | C30: ='【自動入力】収支予算（当初）'!C30 -> 0 | D30: =SUMIF('【変更時のみ入力】変更予算収支明細 '!$B$27:$B$129,$B30,'【変更時のみ入力】変更予算収支明細 '!$E$27:$E$129) -> 0 | E30: =+D30-C30 -> 0 | F30: 〃
B31: 通信運搬費 | C31: ='【自動入力】収支予算（当初）'!C31 -> 0 | D31: =SUMIF('【変更時のみ入力】変更予算収支明細 '!$B$27:$B$129,$B31,'【変更時のみ入力】変更予算収支明細 '!$E$27:$E$129) -> 0 | E31: =+D31-C31 -> 0 | F31: 〃
B32: 広告料 | C32: ='【自動入力】収支予算（当初）'!C32 -> 0 | D32: =SUMIF('【変更時のみ入力】変更予算収支明細 '!$B$27:$B$129,$B32,'【変更時のみ入力】変更予算収支明細 '!$E$27:$E$129) -> 0 | E32: =+D32-C32 -> 0 | F32: 〃
B33: 手数料 | C33: ='【自動入力】収支予算（当初）'!C33 -> 0 | D33: =SUMIF('【変更時のみ入力】変更予算収支明細 '!$B$27:$B$129,$B33,'【変更時のみ入力】変更予算収支明細 '!$E$27:$E$129) -> 0 | E33: =+D33-C33 -> 0 | F33: 〃
B34: 保険料 | C34: ='【自動入力】収支予算（当初）'!C34 -> 0 | D34: =SUMIF('【変更時のみ入力】変更予算収支明細 '!$B$27:$B$129,$B34,'【変更時のみ入力】変更予算収支明細 '!$E$27:$E$129) -> 0 | E34: =+D34-C34 -> 0 | F34: 〃
B35: 使用料及び賃借料 | C35: ='【自動入力】収支予算（当初）'!C35 -> 0 | D35: =SUMIF('【変更時のみ入力】変更予算収支明細 '!$B$27:$B$129,$B35,'【変更時のみ入力】変更予算収支明細 '!$E$27:$E$129) -> 0 | E35: =+D35-C35 -> 0 | F35: 〃
A36: 合 計 | C36: =SUM(C19:C23) -> 0 | D36: =SUM(D19:D23) -> 0 | E36: =SUM(E19:E23) -> 0

Sheet 【変更時のみ入力】変更予算収支明細 
A1: 変更予算収支明細表（サポート事業用）
A2: =【申請時のみ】当初予算収支明細!A2 -> 事業名： | F2: =【申請時のみ】当初予算収支明細!F2 -> 団体名：
A3: 収入明細
A4: No. | B4: 科目分類 | C4: 受入予定時期 | D4: 相手方（見込） | E4: 金額 | F4: 摘要 | G4: 明細の 有無
A5: 1 | B5: 自己財源
A6: 2 | B6: 県補助金
A7: 3
A8: 4
A9: 5
A10: 6
A11: 7
A12: 8
A13: 9
A14: 10
A15: 11
A16: 12
A17: 13
A18: 14
... A24: 20
A25: 合計 | E25: =SUM(E5:E24) -> 0
A26: 支出明細
A27: No. | B27: 科目分類 | C27: 支払予定時期 | D27: 相手方（見込） | E27: 金額 | F27: 摘要 | G27: 明細の 有無 | H27: 備考
A29: 1 | B29: 報償費
A30: 2 | B30: 消耗品費
A31: 3
A32: 4
A33: 5
A34: 6
A35: 7
A36: 8
A37: 9
A38: 10
A39: 11
A40: 12
A41: 13
A42: 14
... A128: 100
A129: 合計 | E129: =SUM(E29:E128) -> 0
